BEGIN:VCALENDAR
VERSION:2.0
PRODID:-//Gesa Power House Theatre - ECPv6.15.20//NONSGML v1.0//EN
CALSCALE:GREGORIAN
METHOD:PUBLISH
X-ORIGINAL-URL:https://phtww.org
X-WR-CALDESC:Events for Gesa Power House Theatre
REFRESH-INTERVAL;VALUE=DURATION:PT1H
X-Robots-Tag:noindex
X-PUBLISHED-TTL:PT1H
BEGIN:VTIMEZONE
TZID:America/Los_Angeles
BEGIN:DAYLIGHT
TZOFFSETFROM:-0800
TZOFFSETTO:-0700
TZNAME:PDT
DTSTART:20250309T100000
END:DAYLIGHT
BEGIN:STANDARD
TZOFFSETFROM:-0700
TZOFFSETTO:-0800
TZNAME:PST
DTSTART:20251102T090000
END:STANDARD
BEGIN:DAYLIGHT
TZOFFSETFROM:-0800
TZOFFSETTO:-0700
TZNAME:PDT
DTSTART:20260308T100000
END:DAYLIGHT
BEGIN:STANDARD
TZOFFSETFROM:-0700
TZOFFSETTO:-0800
TZNAME:PST
DTSTART:20261101T090000
END:STANDARD
BEGIN:DAYLIGHT
TZOFFSETFROM:-0800
TZOFFSETTO:-0700
TZNAME:PDT
DTSTART:20270314T100000
END:DAYLIGHT
BEGIN:STANDARD
TZOFFSETFROM:-0700
TZOFFSETTO:-0800
TZNAME:PST
DTSTART:20271107T090000
END:STANDARD
END:VTIMEZONE
BEGIN:VEVENT
DTSTART;TZID=America/Los_Angeles:20260610T190000
DTEND;TZID=America/Los_Angeles:20260610T210000
DTSTAMP:20260424T102458
CREATED:20260315T231148Z
LAST-MODIFIED:20260315T231148Z
UID:13999-1781118000-1781125200@phtww.org
SUMMARY:Texas Music Revolution
DESCRIPTION:On June 10th\, 2026\, at 7PM\, Gesa Power House Theatre is excited to present Texas Music Revolution!  \nTexas Music Revolution follows the journey of indie radio station KHYI-FM GM and music festival founder Joshua Jones as he produces the silver anniversary of this iconic event. As much a document of reintroducing live music in the wake of a pandemic\, it is a celebration of Texas and its roots–where\, at the crossroads of purist country and Americana has evolved the iconic ‘red dirt’ Waylon-and-Willie style considered one of three pillars of American country music. For more than a quarter of a century\, KHYI-FM’s commitment to radio independence has given voice to this unique sector of the country western genre. TMR has subsequently emerged as an iconic live showcase and grown into one of the largest independent music festivals in the USA. In a volatile era where larger festivals have shuttered\, Joshua and KHYI must double down to produce their grandest event yet.
URL:https://phtww.org/show/texas-music-revolution/
LOCATION:Gesa Power House Theatre\, 111 North 6th Avenue\, Walla Walla\, WA\, 99362\, United States
CATEGORIES:2026 Lineup,Power House Movies
ATTACH;FMTTYPE=image/png:https://phtww.org/wp-content/uploads/2026/03/TMR-Poster.png
END:VEVENT
END:VCALENDAR