BEGIN:VCALENDAR
VERSION:2.0
PRODID:-//Gesa Power House Theatre - ECPv6.15.20//NONSGML v1.0//EN
CALSCALE:GREGORIAN
METHOD:PUBLISH
X-ORIGINAL-URL:https://phtww.org
X-WR-CALDESC:Events for Gesa Power House Theatre
REFRESH-INTERVAL;VALUE=DURATION:PT1H
X-Robots-Tag:noindex
X-PUBLISHED-TTL:PT1H
BEGIN:VTIMEZONE
TZID:America/Los_Angeles
BEGIN:DAYLIGHT
TZOFFSETFROM:-0800
TZOFFSETTO:-0700
TZNAME:PDT
DTSTART:20250309T100000
END:DAYLIGHT
BEGIN:STANDARD
TZOFFSETFROM:-0700
TZOFFSETTO:-0800
TZNAME:PST
DTSTART:20251102T090000
END:STANDARD
BEGIN:DAYLIGHT
TZOFFSETFROM:-0800
TZOFFSETTO:-0700
TZNAME:PDT
DTSTART:20260308T100000
END:DAYLIGHT
BEGIN:STANDARD
TZOFFSETFROM:-0700
TZOFFSETTO:-0800
TZNAME:PST
DTSTART:20261101T090000
END:STANDARD
BEGIN:DAYLIGHT
TZOFFSETFROM:-0800
TZOFFSETTO:-0700
TZNAME:PDT
DTSTART:20270314T100000
END:DAYLIGHT
BEGIN:STANDARD
TZOFFSETFROM:-0700
TZOFFSETTO:-0800
TZNAME:PST
DTSTART:20271107T090000
END:STANDARD
END:VTIMEZONE
BEGIN:VEVENT
DTSTART;TZID=America/Los_Angeles:20260318T190000
DTEND;TZID=America/Los_Angeles:20260318T210000
DTSTAMP:20260424T090111
CREATED:20260212T223346Z
LAST-MODIFIED:20260212T223519Z
UID:13905-1773860400-1773867600@phtww.org
SUMMARY:Seattle Jewish Film Festival Shorts Program
DESCRIPTION:On Wednesday\, March 18 at 7 p.m.\, Gesa Power House Theatre proudly partners once again with the Seattle Jewish Film Festival for 2026’s short film showcase. This collection of short films was curated by our Director of Film Programming\, Warren Etheredge\, and sponsored by Friends of Power House Theatre.
URL:https://phtww.org/show/seattle-jewish-film-festival-shorts-program-2/
LOCATION:Gesa Power House Theatre\, 111 North 6th Avenue\, Walla Walla\, WA\, 99362\, United States
CATEGORIES:2026 Lineup,Power House Movies
ATTACH;FMTTYPE=image/jpeg:https://phtww.org/wp-content/uploads/2026/02/2026-it-takes-a-shtetl-SLIDE-1920-no-textR.jpg
END:VEVENT
END:VCALENDAR