BEGIN:VCALENDAR
VERSION:2.0
PRODID:-//Gesa Power House Theatre - ECPv6.15.20//NONSGML v1.0//EN
CALSCALE:GREGORIAN
METHOD:PUBLISH
X-ORIGINAL-URL:https://phtww.org
X-WR-CALDESC:Events for Gesa Power House Theatre
REFRESH-INTERVAL;VALUE=DURATION:PT1H
X-Robots-Tag:noindex
X-PUBLISHED-TTL:PT1H
BEGIN:VTIMEZONE
TZID:America/Los_Angeles
BEGIN:DAYLIGHT
TZOFFSETFROM:-0800
TZOFFSETTO:-0700
TZNAME:PDT
DTSTART:20250309T100000
END:DAYLIGHT
BEGIN:STANDARD
TZOFFSETFROM:-0700
TZOFFSETTO:-0800
TZNAME:PST
DTSTART:20251102T090000
END:STANDARD
BEGIN:DAYLIGHT
TZOFFSETFROM:-0800
TZOFFSETTO:-0700
TZNAME:PDT
DTSTART:20260308T100000
END:DAYLIGHT
BEGIN:STANDARD
TZOFFSETFROM:-0700
TZOFFSETTO:-0800
TZNAME:PST
DTSTART:20261101T090000
END:STANDARD
BEGIN:DAYLIGHT
TZOFFSETFROM:-0800
TZOFFSETTO:-0700
TZNAME:PDT
DTSTART:20270314T100000
END:DAYLIGHT
BEGIN:STANDARD
TZOFFSETFROM:-0700
TZOFFSETTO:-0800
TZNAME:PST
DTSTART:20271107T090000
END:STANDARD
END:VTIMEZONE
BEGIN:VEVENT
DTSTART;TZID=America/Los_Angeles:20260225T190000
DTEND;TZID=America/Los_Angeles:20260225T210000
DTSTAMP:20260420T055405
CREATED:20260111T215509Z
LAST-MODIFIED:20260111T215509Z
UID:13738-1772046000-1772053200@phtww.org
SUMMARY:Holding Liat
DESCRIPTION:Gesa Power House Theatre proudly presents HOLDING LIAT on Wednesday\, February 25\, 2026\, at 7PM. This program is supported\, in part\, by Friends of Gesa Power House Theatre\, and a grant from the Washington State Arts Commission. \nIn the weeks unfolding after Liat is kidnapped\, her father resists efforts to use her captivity to justify escalating violence in Gaza\, exposing political and emotional rifts within his family as they struggle to find a way to bring her home. \n \nOn the morning of October 7\, 2023\, Israeli-American Liat Atzili and her husband Aviv were at home when Hamas attacked their kibbutz. By nightfall\, Liat and Aviv are captives in Gaza along with 250 other people – 12 of whom\, like Liat\, are American citizens.\nCaught between international diplomacy and a rapidly escalating war\, their family must face their own uncertainty and conflicting perspectives in the pursuit of Liat and Aviv’s release. This agonizing process\, and the ultimate fate of their loved ones\, challenges how the members of the family understand themselves and their place in the conflict.\nThrough the intimate lens of a family’s experience\, HOLDING LIAT poses complex questions of identity across generations\, as the family is thrust into the epicenter of a global conflict rapidly unfolding in real-time.
URL:https://phtww.org/show/holding-liat/
LOCATION:Gesa Power House Theatre\, 111 North 6th Avenue\, Walla Walla\, WA\, 99362\, United States
CATEGORIES:2026 Lineup,Power House Movies
ATTACH;FMTTYPE=image/jpeg:https://phtww.org/wp-content/uploads/2026/01/HOLDING_LIAT_PRESS_STILL_1-scaled.jpg
END:VEVENT
END:VCALENDAR