BEGIN:VCALENDAR
VERSION:2.0
PRODID:-//Gesa Power House Theatre - ECPv6.15.20//NONSGML v1.0//EN
CALSCALE:GREGORIAN
METHOD:PUBLISH
X-ORIGINAL-URL:https://phtww.org
X-WR-CALDESC:Events for Gesa Power House Theatre
REFRESH-INTERVAL;VALUE=DURATION:PT1H
X-Robots-Tag:noindex
X-PUBLISHED-TTL:PT1H
BEGIN:VTIMEZONE
TZID:America/Los_Angeles
BEGIN:DAYLIGHT
TZOFFSETFROM:-0800
TZOFFSETTO:-0700
TZNAME:PDT
DTSTART:20240310T100000
END:DAYLIGHT
BEGIN:STANDARD
TZOFFSETFROM:-0700
TZOFFSETTO:-0800
TZNAME:PST
DTSTART:20241103T090000
END:STANDARD
BEGIN:DAYLIGHT
TZOFFSETFROM:-0800
TZOFFSETTO:-0700
TZNAME:PDT
DTSTART:20250309T100000
END:DAYLIGHT
BEGIN:STANDARD
TZOFFSETFROM:-0700
TZOFFSETTO:-0800
TZNAME:PST
DTSTART:20251102T090000
END:STANDARD
BEGIN:DAYLIGHT
TZOFFSETFROM:-0800
TZOFFSETTO:-0700
TZNAME:PDT
DTSTART:20260308T100000
END:DAYLIGHT
BEGIN:STANDARD
TZOFFSETFROM:-0700
TZOFFSETTO:-0800
TZNAME:PST
DTSTART:20261101T090000
END:STANDARD
END:VTIMEZONE
BEGIN:VEVENT
DTSTART;TZID=America/Los_Angeles:20250115T190000
DTEND;TZID=America/Los_Angeles:20250115T210000
DTSTAMP:20260425T040408
CREATED:20241101T150016Z
LAST-MODIFIED:20241030T213045Z
UID:12161-1736967600-1736974800@phtww.org
SUMMARY:Know Your Place
DESCRIPTION:On Wednesday\, January 15th\, Gesa Power House Theatre presents the film Know Your Place. \nSet against the rapidly changing landscape of Seattle\, Know Your Place is a poignant slice-of-life drama following 15-year-old Robel Haile\, an Eritrean-American boy\, as he embarks on a seemingly simple errand that transforms into an emotional journey. Tasked with delivering a huge and heavy suitcase across town\, destined for a sick family member in his parents ‘homeland’\, Robel and his best friend Fahmi must navigate Seattle’s evolving streets while confronting themes of family responsibility\, identity\, and the dislocation caused by economic displacement. \nThe film explores the essence of home—what it means to a young boy at a time of personal transition and to a city undergoing significant redevelopment. Director Zia Mohajerjasbi captures Seattle’s beauty and reflects on the dissolution of communities\, making Know Your Place both a love letter and a lament for a hometown in flux. \n \nDirector Statement \nIt is personal as an attempt to capture the beauty of the place that raised me and those I keep company with\, in this moment of rapid transition; in which the disappearance of the familiar continues to gain momentum with increasing scope and intensity. The dissolution of community\, economic displacement\, and redevelopment of legacy neighborhoods has made part of the city to which I’d been intimately connected almost unrecognizable. This film is about capturing some sense of what Seattle is\, what it has been\, what it is becoming. It is a film about home. \nThrough an intimate narrative lens and characterization\, “Know Your Place” depicts impermanence as a relative experience. The film centers this experience through the eyes of Robel\, an Eritrean-American boy of 15 years\, at a time of transition in his own life\, within the greater transitional context of Seattle and the Pacific Northwest. The film’s key performers are almost all first-time actors or second-time collaborators with me. I am unwaveringly committed to a methodology that embraces storytelling as a universal human trait. As tools to filmmakers become more available\, the localization of cinema is vital – adding nuance\, specificity\, potency and authenticity to stories represented in film. No story is “too small”. \nIn essence\, “Know Your Place” is an exercise in this process – reflecting the possibilities of storytelling in cinema that is grounded in community\, friendship and ongoing cultural exchange. This film is as independent and homegrown as it gets: a diverse cross section of our city’s inhabitants\, collaborating to bring a story of ‘home’ to life in a way that honors the beauty of our shared space\, and the nuance of the individual experiences contained within it. \n– Zia Mohajerjasbi\, Seattle\, WA\, September 2022 \nReserved seating tickets will be available for $15 ($10 for students) either online or by calling the box office at 509-529-6500\, starting on November 15th\, 2024. \nWant to receive early notice and access to ticket sales? Join the +Power Club (highest priority) or sign up for our email list (at the bottom of this page)!
URL:https://phtww.org/show/know-your-place/
LOCATION:Gesa Power House Theatre\, 111 North 6th Avenue\, Walla Walla\, WA\, 99362\, United States
CATEGORIES:2025 Lineup,Power House Movies,public
ATTACH;FMTTYPE=image/jpeg:https://phtww.org/wp-content/uploads/2024/10/KYP_EPK_V10_Page_02-scaled-e1729805414225.jpg
END:VEVENT
END:VCALENDAR