BEGIN:VCALENDAR
VERSION:2.0
PRODID:-//Gesa Power House Theatre - ECPv6.15.20//NONSGML v1.0//EN
CALSCALE:GREGORIAN
METHOD:PUBLISH
X-WR-CALNAME:Gesa Power House Theatre
X-ORIGINAL-URL:https://phtww.org
X-WR-CALDESC:Events for Gesa Power House Theatre
REFRESH-INTERVAL;VALUE=DURATION:PT1H
X-Robots-Tag:noindex
X-PUBLISHED-TTL:PT1H
BEGIN:VTIMEZONE
TZID:America/Los_Angeles
BEGIN:DAYLIGHT
TZOFFSETFROM:-0800
TZOFFSETTO:-0700
TZNAME:PDT
DTSTART:20230312T100000
END:DAYLIGHT
BEGIN:STANDARD
TZOFFSETFROM:-0700
TZOFFSETTO:-0800
TZNAME:PST
DTSTART:20231105T090000
END:STANDARD
BEGIN:DAYLIGHT
TZOFFSETFROM:-0800
TZOFFSETTO:-0700
TZNAME:PDT
DTSTART:20240310T100000
END:DAYLIGHT
BEGIN:STANDARD
TZOFFSETFROM:-0700
TZOFFSETTO:-0800
TZNAME:PST
DTSTART:20241103T090000
END:STANDARD
BEGIN:DAYLIGHT
TZOFFSETFROM:-0800
TZOFFSETTO:-0700
TZNAME:PDT
DTSTART:20250309T100000
END:DAYLIGHT
BEGIN:STANDARD
TZOFFSETFROM:-0700
TZOFFSETTO:-0800
TZNAME:PST
DTSTART:20251102T090000
END:STANDARD
END:VTIMEZONE
BEGIN:VEVENT
DTSTART;TZID=America/Los_Angeles:20241211T190000
DTEND;TZID=America/Los_Angeles:20241211T210000
DTSTAMP:20260425T062915
CREATED:20241025T193259Z
LAST-MODIFIED:20241028T082100Z
UID:12177-1733943600-1733950800@phtww.org
SUMMARY:Chronicles of a Wandering Saint
DESCRIPTION:On Wednesday\, December 11\, at 7 PM\, Gesa Power House Theatre presents Chronicles of a Wandering Saint. \nIn this bighearted supernatural comedy set in a tiny Argentinian town\, a devout yet competitive woman devises a plan to stage a miracle\, hoping it will lead her to sainthood. But as her grand unveiling approaches\, an unexpected event reveals the hidden magic of her world\, leading her to question everything she once took for granted. \nNominated for three 2024 Independent Spirit Awards and an award-winner at SXSW\, Chronicles of a Wandering Saint is a humorous and thought-provoking journey into faith and self-discovery. \nReserved seating tickets are $15\, with a student rate of $10. These are available online or by calling the Box Office at 509-529-6500. Don’t miss this enchanting cinematic experience!
URL:https://phtww.org/show/chronicles-of-a-wandering-saint/
LOCATION:Gesa Power House Theatre\, 111 North 6th Avenue\, Walla Walla\, WA\, 99362\, United States
CATEGORIES:2024 Lineup,Power House Movies,public
ATTACH;FMTTYPE=image/jpeg:https://phtww.org/wp-content/uploads/2024/10/SAINT-IFC-Extended.jpg
END:VEVENT
END:VCALENDAR