BEGIN:VCALENDAR
VERSION:2.0
PRODID:-//Gesa Power House Theatre - ECPv6.15.20//NONSGML v1.0//EN
CALSCALE:GREGORIAN
METHOD:PUBLISH
X-ORIGINAL-URL:https://phtww.org
X-WR-CALDESC:Events for Gesa Power House Theatre
REFRESH-INTERVAL;VALUE=DURATION:PT1H
X-Robots-Tag:noindex
X-PUBLISHED-TTL:PT1H
BEGIN:VTIMEZONE
TZID:America/Los_Angeles
BEGIN:DAYLIGHT
TZOFFSETFROM:-0800
TZOFFSETTO:-0700
TZNAME:PDT
DTSTART:20230312T100000
END:DAYLIGHT
BEGIN:STANDARD
TZOFFSETFROM:-0700
TZOFFSETTO:-0800
TZNAME:PST
DTSTART:20231105T090000
END:STANDARD
BEGIN:DAYLIGHT
TZOFFSETFROM:-0800
TZOFFSETTO:-0700
TZNAME:PDT
DTSTART:20240310T100000
END:DAYLIGHT
BEGIN:STANDARD
TZOFFSETFROM:-0700
TZOFFSETTO:-0800
TZNAME:PST
DTSTART:20241103T090000
END:STANDARD
BEGIN:DAYLIGHT
TZOFFSETFROM:-0800
TZOFFSETTO:-0700
TZNAME:PDT
DTSTART:20250309T100000
END:DAYLIGHT
BEGIN:STANDARD
TZOFFSETFROM:-0700
TZOFFSETTO:-0800
TZNAME:PST
DTSTART:20251102T090000
END:STANDARD
END:VTIMEZONE
BEGIN:VEVENT
DTSTART;TZID=America/Los_Angeles:20241113T190000
DTEND;TZID=America/Los_Angeles:20241113T210000
DTSTAMP:20260425T063407
CREATED:20240801T133038Z
LAST-MODIFIED:20240725T220322Z
UID:11857-1731524400-1731531600@phtww.org
SUMMARY:Sunset Road
DESCRIPTION:On Wednesday\, November 13\, at 7 PM\, Gesa Power House Theatre presents Sunset Road. \nSunset Road is a comedic romp through Washington wine country – inspired by Romeo and Juliet – but instead of the Montagues versus the Capulets\, these sparring wine families make rival Merlot and Cabernet. \nReserved tickets will be available for $15 ($10 for students) on August 15th\, either online or via the Box Office at 509-529-6500. Want to receive early notice and access to ticket sales? Join the +Power Club (highest priority) or sign up for our e-mail list (at the bottom of this page)!
URL:https://phtww.org/show/sunset-road/
LOCATION:WA
CATEGORIES:2024 Lineup,Power House Movies
ATTACH;FMTTYPE=image/jpeg:https://phtww.org/wp-content/uploads/2024/07/Sunset-Road-website-square.jpeg
END:VEVENT
END:VCALENDAR