BEGIN:VCALENDAR
VERSION:2.0
PRODID:-//Gesa Power House Theatre - ECPv6.15.20//NONSGML v1.0//EN
CALSCALE:GREGORIAN
METHOD:PUBLISH
X-WR-CALNAME:Gesa Power House Theatre
X-ORIGINAL-URL:https://phtww.org
X-WR-CALDESC:Events for Gesa Power House Theatre
REFRESH-INTERVAL;VALUE=DURATION:PT1H
X-Robots-Tag:noindex
X-PUBLISHED-TTL:PT1H
BEGIN:VTIMEZONE
TZID:America/Los_Angeles
BEGIN:DAYLIGHT
TZOFFSETFROM:-0800
TZOFFSETTO:-0700
TZNAME:PDT
DTSTART:20230312T100000
END:DAYLIGHT
BEGIN:STANDARD
TZOFFSETFROM:-0700
TZOFFSETTO:-0800
TZNAME:PST
DTSTART:20231105T090000
END:STANDARD
BEGIN:DAYLIGHT
TZOFFSETFROM:-0800
TZOFFSETTO:-0700
TZNAME:PDT
DTSTART:20240310T100000
END:DAYLIGHT
BEGIN:STANDARD
TZOFFSETFROM:-0700
TZOFFSETTO:-0800
TZNAME:PST
DTSTART:20241103T090000
END:STANDARD
BEGIN:DAYLIGHT
TZOFFSETFROM:-0800
TZOFFSETTO:-0700
TZNAME:PDT
DTSTART:20250309T100000
END:DAYLIGHT
BEGIN:STANDARD
TZOFFSETFROM:-0700
TZOFFSETTO:-0800
TZNAME:PST
DTSTART:20251102T090000
END:STANDARD
END:VTIMEZONE
BEGIN:VEVENT
DTSTART;TZID=America/Los_Angeles:20241002T190000
DTEND;TZID=America/Los_Angeles:20241002T210000
DTSTAMP:20260425T075929
CREATED:20240801T133024Z
LAST-MODIFIED:20240725T214001Z
UID:11798-1727895600-1727902800@phtww.org
SUMMARY:Majority Rules
DESCRIPTION:On Wednesday\, October 2\, at 7 PM\, Gesa Power House Theatre is proud to present the documentary Majority Rules. \nAlaska is gearing up to do something that no other state has ever done: Adopting a pair of election reforms that will eliminate traditional party primaries and allow voters to rank their candidates by preference. Just as election workers\, citizens\, and politicians are beginning to adapt to this new system\, the state’s longest-serving Congressman unexpectedly dies\, creating an open seat and prompting a special election that will test this system months earlier than expected. As dozens of candidates –including former Governor Sarah Palin– jump into the race for the highly coveted seat\, everyone must learn how these new voting reforms will change the rules of campaigning and winning. The surprising outcome in that special election leads to a groundswell of support for election reform in other states and fierce pushback from political parties and partisans\, just as the Alaska general election gets underway. \nVeteran political documentary filmmaker AJ Schnack (Caucus\, Convention) returns to the campaign trail asking whether these new Alaska reforms\, an all-candidate open primary and an instant runoff general election\, might be a prescription for what ails the American democratic experiment. Traveling across the country\, Schnack and his crew interview reform supporters and opponents\, looking at where these reforms are already in place and where they may soon be adopted. The resulting film answers two of our nation’s most pressing questions: How did the American electoral system become so dysfunctional\, and can changes to how we vote change our entire system for the better? \n \nReserved tickets will be available for $15 ($10 for students) on August 15th\, either online or via the Box Office at 509-529-6500. Want to receive early notice and access to ticket sales? Join the +Power Club (highest priority) or sign up for our e-mail list (at the bottom of this page)!
URL:https://phtww.org/show/majority-rules/
LOCATION:Gesa Power House Theatre\, 111 North 6th Avenue\, Walla Walla\, WA\, 99362\, United States
CATEGORIES:2024 Lineup,Power House Movies
ATTACH;FMTTYPE=image/png:https://phtww.org/wp-content/uploads/2024/07/Untitled-design-6.png
END:VEVENT
END:VCALENDAR