BEGIN:VCALENDAR
VERSION:2.0
PRODID:-//Gesa Power House Theatre - ECPv6.15.20//NONSGML v1.0//EN
CALSCALE:GREGORIAN
METHOD:PUBLISH
X-ORIGINAL-URL:https://phtww.org
X-WR-CALDESC:Events for Gesa Power House Theatre
REFRESH-INTERVAL;VALUE=DURATION:PT1H
X-Robots-Tag:noindex
X-PUBLISHED-TTL:PT1H
BEGIN:VTIMEZONE
TZID:America/Los_Angeles
BEGIN:DAYLIGHT
TZOFFSETFROM:-0800
TZOFFSETTO:-0700
TZNAME:PDT
DTSTART:20240310T100000
END:DAYLIGHT
BEGIN:STANDARD
TZOFFSETFROM:-0700
TZOFFSETTO:-0800
TZNAME:PST
DTSTART:20241103T090000
END:STANDARD
BEGIN:DAYLIGHT
TZOFFSETFROM:-0800
TZOFFSETTO:-0700
TZNAME:PDT
DTSTART:20250309T100000
END:DAYLIGHT
BEGIN:STANDARD
TZOFFSETFROM:-0700
TZOFFSETTO:-0800
TZNAME:PST
DTSTART:20251102T090000
END:STANDARD
BEGIN:DAYLIGHT
TZOFFSETFROM:-0800
TZOFFSETTO:-0700
TZNAME:PDT
DTSTART:20260308T100000
END:DAYLIGHT
BEGIN:STANDARD
TZOFFSETFROM:-0700
TZOFFSETTO:-0800
TZNAME:PST
DTSTART:20261101T090000
END:STANDARD
END:VTIMEZONE
BEGIN:VEVENT
DTSTART;TZID=America/Los_Angeles:20250910T190000
DTEND;TZID=America/Los_Angeles:20250910T210000
DTSTAMP:20260424T160423
CREATED:20250501T124518Z
LAST-MODIFIED:20250816T133141Z
UID:12880-1757530800-1757538000@phtww.org
SUMMARY:Sabbath Queen
DESCRIPTION:Gesa Power House Theatre proudly presents Sabbath Queen on Wednesday\, September 10\, 2025\, at 7PM. This program is supported\, in part\, by a grant from the Washington State Arts Commission. A q&a session with Director and Producer\, Sandi DuBowski\, live on the Gesa Power House Theatre stage will follow this screening! \nFilmed over 21 years\, follows Rabbi Amichai Lau-Lavie’s epic journey as the dynastic heir of 38 generations of Orthodox rabbis including the Chief Rabbis of Israel. He is torn between rejecting and embracing his destiny and becomes a drag-queen rebel\, a queer bio-dad and the founder of Lab/Shul—an everybody-friendly\, God-optional\, artist-driven\, pop-up experimental congregation. \nSabbath Queen joins Amichai on a lifelong quest to creatively and radically reinvent religion and ritual\, challenge patriarchy and supremacy\, champion interfaith love\, and stand up for peace\, ceasefire\, and an end to the Occupation in Israel/Palestine. The film interrogates what Jewish survival means in a difficult rapidly changing 21st century. \nThis film is directed and produced by Sandi DuBowski.
URL:https://phtww.org/show/sabbath-queen/
LOCATION:Gesa Power House Theatre\, 111 North 6th Avenue\, Walla Walla\, WA\, 99362\, United States
CATEGORIES:2025 Lineup,Power House Movies
ATTACH;FMTTYPE=image/png:https://phtww.org/wp-content/uploads/2025/04/Sabbath-Queen-Poster-png-e1745869378119.webp
END:VEVENT
BEGIN:VEVENT
DTSTART;TZID=America/Los_Angeles:20250924T190000
DTEND;TZID=America/Los_Angeles:20250924T210000
DTSTAMP:20260424T160423
CREATED:20250501T124559Z
LAST-MODIFIED:20250719T021344Z
UID:12883-1758740400-1758747600@phtww.org
SUMMARY:All God's Children
DESCRIPTION:Gesa Power House Theatre proudly presents All God’s Children on Wednesday\, September 24\, 2025\, at 7PM. This program is supported\, in part\, by a grant from the Washington State Arts Commission. \nIn an unprecedented attempt to heal centuries of racism and antisemitism\, and combat the rising racial and ethnic tension in their Brooklyn communities\, the largest reform synagogue and the oldest black Baptist Church attempt to unite their congregations and bring about peace\, by becoming family. Shot over five years by acclaimed documentary filmmaker Ondi Timoner\, ALL GOD’S CHILDREN follows her sister\, activist Rabbi Rachel Timoner\, and her Congregation Beth Elohim’s partnership with Reverend Dr. Robert Waterman of Antioch Baptist Church as their faith is put to the test\, and both congregations struggle not to let their differences drive them apart. Though it’s a fraught partnership\, they refuse to walk away\, no matter how hard it gets\, and ultimately emerge with an inspiring model for how other communities might build bridges across religious\, economic and class divides to foster enduring\, powerful partnerships. \n\n \n“I began what became ALL GOD’S CHILDREN as a short film called REBEL RABBI in 2019. I was inspired by my sister’s Rabbi Rachel Timoners determination to do whatever she could to set things right in the world. As a Rabbi\, she had been arrested eight times in the last couple of years for leading nonviolent protests\, but I knew Rachel’s primary mission was always to fight racism\, dating back to our childhood in the segregated South. \nShortly after we started filming\, she had a meeting with Reverend Dr. Robert Waterman\, and they set about an unprecedented partnership to try to stop racism and antisemitism in their Brooklyn communities by becoming family – so following Rachel and Robert’s mission became our focus\, and boy was it a tumultuous ride! \nFive years later we have emerged with a feature film which I believe is an inspiring example of how to foster enduring dialogue and the power of partnership\, across all differences – religious\, racial\, or economic.” — Ondi Timoner. Director/Producer/Editor/Writer \nReserved tickets will be available for $15 ($10 for students) on May 15th\, either online or via the Box Office at 509-529-6500. Want to receive early notice and access to ticket sales? Join the +Power Club (highest priority) or sign up for our email list (at the bottom of this page)!
URL:https://phtww.org/show/all-gods-children/
LOCATION:Gesa Power House Theatre\, 111 North 6th Avenue\, Walla Walla\, WA\, 99362\, United States
CATEGORIES:2025 Lineup,Power House Movies
ATTACH;FMTTYPE=image/png:https://phtww.org/wp-content/uploads/2025/04/All-Gods-Children-png-e1745873376195.webp
END:VEVENT
BEGIN:VEVENT
DTSTART;TZID=America/Los_Angeles:20250930T190000
DTEND;TZID=America/Los_Angeles:20250930T210000
DTSTAMP:20260424T160423
CREATED:20250520T185131Z
LAST-MODIFIED:20250905T152700Z
UID:12943-1759258800-1759266000@phtww.org
SUMMARY:Feel It All
DESCRIPTION:Gesa Power House Theatre proudly presents Drew Petersen\, and his film\, Feel It All\, on Tuesday\, September 30\, 2025\, at 7PM. This program is supported\, in part\, by a grant from the Washington State Arts Commission and an event sponsorship from Greater Health Now. \nAlong with CBS news host Spencer Wilson\, Petersen recently won an Emmy for a news spotlight on his story. \nThe story\nFeel It All chronicles professional skier Drew Petersen’s journey from the depths of suicidal depression to finding purpose\, strength\, and resilience by setting a goal to run the Leadville Trail 100 ultramarathon. Through blending the experience of skiing the highest 14\,000-foot peaks in Colorado that surround the Leadville 100 course with the emotional\, immersive story arc of running one of the most iconic 100-mile ultramarathons on the planet\, the film shows how within the struggle of living with mental illness lies an opportunity to access an infinite\, inexhaustible well of strength to achieve our limitless potential. The film aims to ultimately create powerful cultural change around mental health awareness and suicide prevention. \nThe Mission\nThe mission of Feel It All is nothing short of powerful\, lasting cultural change of breaking down the stigma around mental health and suicide in order to create a culture that honors and prioritizes mental health in order to save lives and help us thrive as individuals\, communities\, and as a society.\n \nReserved tickets are available NOW for $15 ($10 for students) on May 15th\, either online or via the Box Office at 509-529-6500. Want to receive early notice and access to ticket sales? Join the +Power Club (highest priority) or sign up for our email list (at the bottom of this page)!
URL:https://phtww.org/show/feel-it-all/
LOCATION:Gesa Power House Theatre\, 111 North 6th Avenue\, Walla Walla\, WA\, 99362\, United States
CATEGORIES:2025 Lineup,Power House Movies
ATTACH;FMTTYPE=image/jpeg:https://phtww.org/wp-content/uploads/2025/05/feelitall.webp
END:VEVENT
END:VCALENDAR