BEGIN:VCALENDAR
VERSION:2.0
PRODID:-//Gesa Power House Theatre - ECPv6.15.20//NONSGML v1.0//EN
CALSCALE:GREGORIAN
METHOD:PUBLISH
X-WR-CALNAME:Gesa Power House Theatre
X-ORIGINAL-URL:https://phtww.org
X-WR-CALDESC:Events for Gesa Power House Theatre
REFRESH-INTERVAL;VALUE=DURATION:PT1H
X-Robots-Tag:noindex
X-PUBLISHED-TTL:PT1H
BEGIN:VTIMEZONE
TZID:America/Los_Angeles
BEGIN:DAYLIGHT
TZOFFSETFROM:-0800
TZOFFSETTO:-0700
TZNAME:PDT
DTSTART:20230312T100000
END:DAYLIGHT
BEGIN:STANDARD
TZOFFSETFROM:-0700
TZOFFSETTO:-0800
TZNAME:PST
DTSTART:20231105T090000
END:STANDARD
BEGIN:DAYLIGHT
TZOFFSETFROM:-0800
TZOFFSETTO:-0700
TZNAME:PDT
DTSTART:20240310T100000
END:DAYLIGHT
BEGIN:STANDARD
TZOFFSETFROM:-0700
TZOFFSETTO:-0800
TZNAME:PST
DTSTART:20241103T090000
END:STANDARD
BEGIN:DAYLIGHT
TZOFFSETFROM:-0800
TZOFFSETTO:-0700
TZNAME:PDT
DTSTART:20250309T100000
END:DAYLIGHT
BEGIN:STANDARD
TZOFFSETFROM:-0700
TZOFFSETTO:-0800
TZNAME:PST
DTSTART:20251102T090000
END:STANDARD
END:VTIMEZONE
BEGIN:VEVENT
DTSTART;TZID=America/Los_Angeles:20240612T190000
DTEND;TZID=America/Los_Angeles:20240612T210000
DTSTAMP:20260425T120154
CREATED:20240412T002210Z
LAST-MODIFIED:20240412T215244Z
UID:11520-1718218800-1718226000@phtww.org
SUMMARY:Inside the Yellow Cocoon Shell
DESCRIPTION:Gesa Power House Theatre proudly presents award-winning drama Inside the Yellow Cocoon Shell on Wednesday\, June 12 at 7 p.m. \nWinner of the prestigious Camera d’Or for best first film at this year’s Cannes Film Festival\, the enthralling Inside the Yellow Cocoon Shell from Vietnamese filmmaker Pham Thien An is a reverie on faith\, loss\, and nature expressed with uncommon invention and depth. It’s a simple tale told with visual complexity: after a car accident claims the life of his sister-in-law and leaves his 5-year-old nephew an orphan\, a thirty something man named Thien (Le Phong Vu) leaves Saigon for a trip back to his rural hometown. During his meditative\, wandering visit\, Thien wrestles with his own agnosticism in the face of others’ religious beliefs\, summons memories of his long-disappeared brother\, and reconnects with a former girlfriend who now lives as a nun at a Christian church and school. With its drifting camera\, evocative use of natural light\, and gratifying perambulatory nature\, this is a film with the power to readjust one’s perceptions of the world around us. \nReserved seating tickets are $15 ($10 for students) and are available online or by calling 509-529-6500.
URL:https://phtww.org/show/inside-of-the-yellow-cocoon-shell/
LOCATION:Gesa Power House Theatre\, 111 North 6th Avenue\, Walla Walla\, WA\, 99362\, United States
CATEGORIES:2024 Lineup,Power House Movies
ATTACH;FMTTYPE=image/png:https://phtww.org/wp-content/uploads/2024/04/Screenshot-2024-04-11-at-4.59.35-PM.png
END:VEVENT
BEGIN:VEVENT
DTSTART;TZID=America/Los_Angeles:20240626T190000
DTEND;TZID=America/Los_Angeles:20240626T210000
DTSTAMP:20260425T120154
CREATED:20240605T160156Z
LAST-MODIFIED:20240626T224914Z
UID:11636-1719428400-1719435600@phtww.org
SUMMARY:Late Bloomers
DESCRIPTION:Gesa Power House Theatre proudly presents Late Bloomers on Wednesday\, June 26\, 2024 at 7:00PM \nLouise (Karen Gillan)\, an aimless\, 28 year-old Brooklynite\, recently single\, sort of a musician\, depressed without admitting to it\, drunkenly falls while doing something stupid and breaks her hip. This lands her in a physical therapy ward full of people twice her age. There\, she meets Antonina – a cranky elderly Polish woman (Małgorzata Zajączkowska)\, who speaks no English. Louise gets a job caring for her. Neither woman loves the arrangement but it’s time to face the truth about aging. We all have to grow up sometime. \n \nReserved seating tickets are $15 ($10 for students) and are available online or by calling 509-529-6500.
URL:https://phtww.org/show/late-bloomers/
LOCATION:Gesa Power House Theatre\, 111 North 6th Avenue\, Walla Walla\, WA\, 99362\, United States
CATEGORIES:2024 Lineup,Power House Movies
ATTACH;FMTTYPE=image/png:https://phtww.org/wp-content/uploads/2024/06/Late-Bloomers-Image.png
END:VEVENT
END:VCALENDAR