BEGIN:VCALENDAR
VERSION:2.0
PRODID:-//Gesa Power House Theatre - ECPv6.15.20//NONSGML v1.0//EN
CALSCALE:GREGORIAN
METHOD:PUBLISH
X-WR-CALNAME:Gesa Power House Theatre
X-ORIGINAL-URL:https://phtww.org
X-WR-CALDESC:Events for Gesa Power House Theatre
REFRESH-INTERVAL;VALUE=DURATION:PT1H
X-Robots-Tag:noindex
X-PUBLISHED-TTL:PT1H
BEGIN:VTIMEZONE
TZID:America/Los_Angeles
BEGIN:DAYLIGHT
TZOFFSETFROM:-0800
TZOFFSETTO:-0700
TZNAME:PDT
DTSTART:20240310T100000
END:DAYLIGHT
BEGIN:STANDARD
TZOFFSETFROM:-0700
TZOFFSETTO:-0800
TZNAME:PST
DTSTART:20241103T090000
END:STANDARD
BEGIN:DAYLIGHT
TZOFFSETFROM:-0800
TZOFFSETTO:-0700
TZNAME:PDT
DTSTART:20250309T100000
END:DAYLIGHT
BEGIN:STANDARD
TZOFFSETFROM:-0700
TZOFFSETTO:-0800
TZNAME:PST
DTSTART:20251102T090000
END:STANDARD
BEGIN:DAYLIGHT
TZOFFSETFROM:-0800
TZOFFSETTO:-0700
TZNAME:PDT
DTSTART:20260308T100000
END:DAYLIGHT
BEGIN:STANDARD
TZOFFSETFROM:-0700
TZOFFSETTO:-0800
TZNAME:PST
DTSTART:20261101T090000
END:STANDARD
END:VTIMEZONE
BEGIN:VEVENT
DTSTART;TZID=America/Los_Angeles:20251231T190000
DTEND;TZID=America/Los_Angeles:20251231T210000
DTSTAMP:20260425T040357
CREATED:20250801T150025Z
LAST-MODIFIED:20251104T154353Z
UID:13216-1767207600-1767214800@phtww.org
SUMMARY:New Years Eve Comedy: Andy Gross
DESCRIPTION:Gesa Power House Theatre welcomes comedic magician Andy Gross for New Years Eve Comedy on Wednesday\, December 31 at 7PM! \nAndy Gross is one of the hottest stand up comic\, magician and ventriloquist working today as evidenced by his sold out shows and devoted following! His videos have over 100 Million views and counting on the internet! He performs over 150 shows a year at comedy clubs\, Las Vegas\, cruise ships\, fortune 500 corporate events\, colleges and performing arts theaters everywhere. He is considered one of the best by his peers in the entertainment industry and he will leave you spellbound. You may recognize him from his numerous TV appearances\, including most recently The Ellen show and an NBC television special featuring his talents. \nAndy is multi-talented entertainer that currently combines stand up comedy\, magic\, and ventriloquism successfully together making him one of the most sought after corporate entertainers in the world. Audiences are absolutely unanimous in their praise of this amazing performer. His ad-libs during his stand-up are compared frequently to Don Rickles and Robin Williams. His voice throwing is amazing to hear and only a few people in the world can throw their voice\, it is must hear to believe! \nThis program is supported\, in part\, by a grant from the Washington State Arts Commission. This project is also supported in part by Creative West which receives support in part from the National Endowment for the Arts\, a federal agency. \n \nReserved seating tickets start at $45 ($20 for students) and are available to +Power Club members starting August 8\, and open to the general public on August 15\, online or by calling the box office at 509-529-6500. \nWant to receive early notice and access to ticket sales? Join the +Power Club (highest priority) or sign up for our e-mail list (at the bottom of this page)!
URL:https://phtww.org/show/new-years-eve-comedy-andy-gross/
LOCATION:Gesa Power House Theatre\, 111 North 6th Avenue\, Walla Walla\, WA\, 99362\, United States
CATEGORIES:2025 Lineup,public
ATTACH;FMTTYPE=image/jpeg:https://phtww.org/wp-content/uploads/2025/07/FirstMoreColorCardsWeb-1.webp
END:VEVENT
END:VCALENDAR