BEGIN:VCALENDAR
VERSION:2.0
PRODID:-//Gesa Power House Theatre - ECPv6.15.20//NONSGML v1.0//EN
CALSCALE:GREGORIAN
METHOD:PUBLISH
X-ORIGINAL-URL:https://phtww.org
X-WR-CALDESC:Events for Gesa Power House Theatre
REFRESH-INTERVAL;VALUE=DURATION:PT1H
X-Robots-Tag:noindex
X-PUBLISHED-TTL:PT1H
BEGIN:VTIMEZONE
TZID:America/Los_Angeles
BEGIN:DAYLIGHT
TZOFFSETFROM:-0800
TZOFFSETTO:-0700
TZNAME:PDT
DTSTART:20240310T100000
END:DAYLIGHT
BEGIN:STANDARD
TZOFFSETFROM:-0700
TZOFFSETTO:-0800
TZNAME:PST
DTSTART:20241103T090000
END:STANDARD
BEGIN:DAYLIGHT
TZOFFSETFROM:-0800
TZOFFSETTO:-0700
TZNAME:PDT
DTSTART:20250309T100000
END:DAYLIGHT
BEGIN:STANDARD
TZOFFSETFROM:-0700
TZOFFSETTO:-0800
TZNAME:PST
DTSTART:20251102T090000
END:STANDARD
BEGIN:DAYLIGHT
TZOFFSETFROM:-0800
TZOFFSETTO:-0700
TZNAME:PDT
DTSTART:20260308T100000
END:DAYLIGHT
BEGIN:STANDARD
TZOFFSETFROM:-0700
TZOFFSETTO:-0800
TZNAME:PST
DTSTART:20261101T090000
END:STANDARD
END:VTIMEZONE
BEGIN:VEVENT
DTSTART;TZID=America/Los_Angeles:20251220T140000
DTEND;TZID=America/Los_Angeles:20251220T160000
DTSTAMP:20260424T133615
CREATED:20250803T150028Z
LAST-MODIFIED:20250803T130315Z
UID:13236-1766239200-1766246400@phtww.org
SUMMARY:The Nutcracker Ballet
DESCRIPTION:This December\, Gesa Power House Theatre welcomes Washington State Youth Ballet back to the stage for four performances of The Nutcracker: on December 20\, at both 2 PM and 7 PM; and December 21\, at both 2 PM and 7 PM. \nMagical dolls\, life-sized mice\, dancing snowflakes\, and an enchanting kingdom of sweets! Set to Tchaikovsky’s timeless score\, the incredible dancing – and dazzling costumes – bring to life the classic story of Clara and her dreamlike adventures with her Nutcracker Prince. The Washington State Youth Ballet’s The Nutcracker will transport audiences of all ages into a wonderland that has become a lasting holiday tradition not to be missed. \nReserved seating tickets are available beginning at $30 (with $20 youth tickets available in the balcony). They can be purchased online\, or by calling the box office at 509-529-6500. \nThis event is a rental. To learn more about renting Gesa Power House Theatre\, click here.
URL:https://phtww.org/show/the-nutcracker-ballet-5/
LOCATION:Gesa Power House Theatre\, 111 North 6th Avenue\, Walla Walla\, WA\, 99362\, United States
CATEGORIES:2025 Lineup,public
ATTACH;FMTTYPE=image/jpeg:https://phtww.org/wp-content/uploads/2024/10/Nutcracker-website-square-2024-scaled.jpg
END:VEVENT
BEGIN:VEVENT
DTSTART;TZID=America/Los_Angeles:20251220T190000
DTEND;TZID=America/Los_Angeles:20251220T210000
DTSTAMP:20260424T133615
CREATED:20250803T150040Z
LAST-MODIFIED:20250803T130208Z
UID:13238-1766257200-1766264400@phtww.org
SUMMARY:The Nutcracker Ballet
DESCRIPTION:This December\, Gesa Power House Theatre welcomes Washington State Youth Ballet back to the stage for four performances of The Nutcracker: on December 20\, at both 2 PM and 7 PM; and December 21\, at both 2 PM and 7 PM. \nMagical dolls\, life-sized mice\, dancing snowflakes\, and an enchanting kingdom of sweets! Set to Tchaikovsky’s timeless score\, the incredible dancing – and dazzling costumes – bring to life the classic story of Clara and her dreamlike adventures with her Nutcracker Prince. The Washington State Youth Ballet’s The Nutcracker will transport audiences of all ages into a wonderland that has become a lasting holiday tradition not to be missed. \nReserved seating tickets are available beginning at $30 (with $20 youth tickets available in the balcony). They can be purchased online\, or by calling the box office at 509-529-6500. \nThis event is a rental. To learn more about renting Gesa Power House Theatre\, click here.
URL:https://phtww.org/show/the-nutcracker-ballet-6/
LOCATION:Gesa Power House Theatre\, 111 North 6th Avenue\, Walla Walla\, WA\, 99362\, United States
CATEGORIES:2025 Lineup,public
ATTACH;FMTTYPE=image/jpeg:https://phtww.org/wp-content/uploads/2024/10/Nutcracker-website-square-2024-scaled.jpg
END:VEVENT
END:VCALENDAR