BEGIN:VCALENDAR
VERSION:2.0
PRODID:-//Gesa Power House Theatre - ECPv6.15.20//NONSGML v1.0//EN
CALSCALE:GREGORIAN
METHOD:PUBLISH
X-ORIGINAL-URL:https://phtww.org
X-WR-CALDESC:Events for Gesa Power House Theatre
REFRESH-INTERVAL;VALUE=DURATION:PT1H
X-Robots-Tag:noindex
X-PUBLISHED-TTL:PT1H
BEGIN:VTIMEZONE
TZID:America/Los_Angeles
BEGIN:DAYLIGHT
TZOFFSETFROM:-0800
TZOFFSETTO:-0700
TZNAME:PDT
DTSTART:20240310T100000
END:DAYLIGHT
BEGIN:STANDARD
TZOFFSETFROM:-0700
TZOFFSETTO:-0800
TZNAME:PST
DTSTART:20241103T090000
END:STANDARD
BEGIN:DAYLIGHT
TZOFFSETFROM:-0800
TZOFFSETTO:-0700
TZNAME:PDT
DTSTART:20250309T100000
END:DAYLIGHT
BEGIN:STANDARD
TZOFFSETFROM:-0700
TZOFFSETTO:-0800
TZNAME:PST
DTSTART:20251102T090000
END:STANDARD
BEGIN:DAYLIGHT
TZOFFSETFROM:-0800
TZOFFSETTO:-0700
TZNAME:PDT
DTSTART:20260308T100000
END:DAYLIGHT
BEGIN:STANDARD
TZOFFSETFROM:-0700
TZOFFSETTO:-0800
TZNAME:PST
DTSTART:20261101T090000
END:STANDARD
END:VTIMEZONE
BEGIN:VEVENT
DTSTART;TZID=America/Los_Angeles:20251207T130000
DTEND;TZID=America/Los_Angeles:20251207T140000
DTSTAMP:20260424T133615
CREATED:20250801T150044Z
LAST-MODIFIED:20250811T163352Z
UID:13210-1765112400-1765116000@phtww.org
SUMMARY:Little Watts: Holiday Reading
DESCRIPTION:Kick off the holiday season with Gesa Power House Theatre on Sunday\, December 7 at 1PM as we celebrate with an afternoon of holiday magic\, music\, and community spirit! Join us as we bring the classic poem “’Twas the Night Before Christmas” to life in a lively reading perfect for all ages. \nEnjoy festive caroling and a cheerful atmosphere that will fill you with holiday joy. And don’t be surprised if Santa Claus makes a special visit to spread extra cheer! \nWhether you’re young or young at heart\, there’s something here for everyone to enjoy. Bring your family and friends for a cozy Sunday celebration and share in this beloved holiday tradition that’s sure to warm your heart. \nTickets ($12 for adults\, $8 for children 12 and under) will be available on August 15th\, either online or via the box office (509-529-6500). Want early access to tickets? Consider joining our +Power Club! \nThis event is sponsored by Pacific Power Foundation\, Milton-Freewater Area Foundation\, and Windermere Real Estate Walla Walla. This program is also supported\, in part\, by a grant from the Washington State Arts Commission. 
URL:https://phtww.org/show/little-watts-holiday-reading/
LOCATION:Gesa Power House Theatre\, 111 North 6th Avenue\, Walla Walla\, WA\, 99362\, United States
CATEGORIES:2025 Lineup,Little Watts
ATTACH;FMTTYPE=image/jpeg:https://phtww.org/wp-content/uploads/2025/07/Q4-2025-Slideshow-Announcement-Social-media-Facebook-Video.webp
END:VEVENT
BEGIN:VEVENT
DTSTART;TZID=America/Los_Angeles:20251207T190000
DTEND;TZID=America/Los_Angeles:20251207T210000
DTSTAMP:20260424T133615
CREATED:20250821T114733Z
LAST-MODIFIED:20251111T234607Z
UID:13357-1765134000-1765141200@phtww.org
SUMMARY:Celtic Christmas
DESCRIPTION:This December\, on Sunday the 7th and Sunday the 14th\, both at 7 PM\, Gesa Power House Theatre welcomes EVERDREAM back to the stage for their much-loved show\, Celtic Christmas. \n\nEverdream is delighted to return to the Gesa Powerhouse Theatre this December! The Celtic group started touring in 2014 and this marks 10 years of Celtic Christmas\, which has become somewhat of a tradition for Walla Walla residents! This magical concert will feature much loved Celtic and Christmas classics\, including songs by Enya\, music from Riverdance\, some unique Irish Christmas songs\, magical movie songs\, toe tapping jigs and reels\, and their chart topping version of O Holy Night! \nKnown for their haunting sound\, Irish charm\, and show-stopping glamour\, this show will be a wonderful night out for the entire family. \n\nReserved seating tickets are available for $40\, either online or by calling the box office at 509-529-6500. Want early access to tickets? Support the theater by joining our +Power Club! \nThis event is a rental. To learn about renting the theater for your own event\, click here!
URL:https://phtww.org/show/a-celtic-christmas-4/
LOCATION:WA
CATEGORIES:2025 Lineup,public
ATTACH;FMTTYPE=image/jpeg:https://phtww.org/wp-content/uploads/2024/08/Celtic-Christmas-web-square-scaled.jpg
END:VEVENT
END:VCALENDAR