BEGIN:VCALENDAR
VERSION:2.0
PRODID:-//Gesa Power House Theatre - ECPv6.15.20//NONSGML v1.0//EN
CALSCALE:GREGORIAN
METHOD:PUBLISH
X-ORIGINAL-URL:https://phtww.org
X-WR-CALDESC:Events for Gesa Power House Theatre
REFRESH-INTERVAL;VALUE=DURATION:PT1H
X-Robots-Tag:noindex
X-PUBLISHED-TTL:PT1H
BEGIN:VTIMEZONE
TZID:America/Los_Angeles
BEGIN:DAYLIGHT
TZOFFSETFROM:-0800
TZOFFSETTO:-0700
TZNAME:PDT
DTSTART:20240310T100000
END:DAYLIGHT
BEGIN:STANDARD
TZOFFSETFROM:-0700
TZOFFSETTO:-0800
TZNAME:PST
DTSTART:20241103T090000
END:STANDARD
BEGIN:DAYLIGHT
TZOFFSETFROM:-0800
TZOFFSETTO:-0700
TZNAME:PDT
DTSTART:20250309T100000
END:DAYLIGHT
BEGIN:STANDARD
TZOFFSETFROM:-0700
TZOFFSETTO:-0800
TZNAME:PST
DTSTART:20251102T090000
END:STANDARD
BEGIN:DAYLIGHT
TZOFFSETFROM:-0800
TZOFFSETTO:-0700
TZNAME:PDT
DTSTART:20260308T100000
END:DAYLIGHT
BEGIN:STANDARD
TZOFFSETFROM:-0700
TZOFFSETTO:-0800
TZNAME:PST
DTSTART:20261101T090000
END:STANDARD
END:VTIMEZONE
BEGIN:VEVENT
DTSTART;TZID=America/Los_Angeles:20251203T190000
DTEND;TZID=America/Los_Angeles:20251203T210000
DTSTAMP:20260424T133718
CREATED:20250917T183829Z
LAST-MODIFIED:20251203T194725Z
UID:13406-1764788400-1764795600@phtww.org
SUMMARY:Wisdom of Happiness
DESCRIPTION:Gesa Power House Theatre proudly presents WISDOM OF HAPPINESS on Wednesday\, December 3\, 2025\, at 7PM. \nWISDOM OF HAPPINESS is a deeply intimate and highly cinematic documentary featuring the Dalai Lama\, who\, at nearly 90 years old\, offers practical advice for navigating the 21st century’s challenges. The film captures the Dalai Lama speaking directly to viewers\, creating a sense of a private audience\, and shares his timeless wisdom on achieving inner peace and happiness for everyone. \nIn what is likely to be the Dalai Lama’s last appearance in a film\, the extraordinary collaboration between Barbara Miller\, Philip Delaquis\, Manuel Bauer\, Oren Moverman and Richard Gere creates a remarkable and timely offering to viewers. The filmmakers weave captivating access with contemplative visuals and never-before-seen archival film to take viewers on a generous meditative climb- from the base of suffering to the peak of human intelligence where the view is simply transformational. \nWISDOM OF HAPPINESS is an unforgettable\, meditative experience for the 21st Century that not only unlocks a door to genuine\, lasting happiness but reveals that each and every one of Earth’s 8 billion beings holds their very own key to it in the palm of their hand. \n“WISDOM OF HAPPINESS is a very special film that we hope will have a profound effect on how we think and feel about ourselves and others with whom we share this beautiful planet.”\n— Richard Gere\, Executive Producer \nReserved tickets are available for $15 ($10 for students)\, either online or via the Box Office at 509-529-6500. Want to receive early notice and access to ticket sales? Join the +Power Club (highest priority) or sign up for our email list (at the bottom of this page)!
URL:https://phtww.org/show/the-wisdom-of-happiness/
LOCATION:Gesa Power House Theatre\, 111 North 6th Avenue\, Walla Walla\, WA\, 99362\, United States
CATEGORIES:2025 Lineup,Power House Movies
ATTACH;FMTTYPE=image/jpeg:https://phtww.org/wp-content/uploads/2025/09/Wisdom-of-Happiness-1.jpg
END:VEVENT
END:VCALENDAR