BEGIN:VCALENDAR
VERSION:2.0
PRODID:-//Gesa Power House Theatre - ECPv6.15.20//NONSGML v1.0//EN
CALSCALE:GREGORIAN
METHOD:PUBLISH
X-WR-CALNAME:Gesa Power House Theatre
X-ORIGINAL-URL:https://phtww.org
X-WR-CALDESC:Events for Gesa Power House Theatre
REFRESH-INTERVAL;VALUE=DURATION:PT1H
X-Robots-Tag:noindex
X-PUBLISHED-TTL:PT1H
BEGIN:VTIMEZONE
TZID:America/Los_Angeles
BEGIN:DAYLIGHT
TZOFFSETFROM:-0800
TZOFFSETTO:-0700
TZNAME:PDT
DTSTART:20240310T100000
END:DAYLIGHT
BEGIN:STANDARD
TZOFFSETFROM:-0700
TZOFFSETTO:-0800
TZNAME:PST
DTSTART:20241103T090000
END:STANDARD
BEGIN:DAYLIGHT
TZOFFSETFROM:-0800
TZOFFSETTO:-0700
TZNAME:PDT
DTSTART:20250309T100000
END:DAYLIGHT
BEGIN:STANDARD
TZOFFSETFROM:-0700
TZOFFSETTO:-0800
TZNAME:PST
DTSTART:20251102T090000
END:STANDARD
BEGIN:DAYLIGHT
TZOFFSETFROM:-0800
TZOFFSETTO:-0700
TZNAME:PDT
DTSTART:20260308T100000
END:DAYLIGHT
BEGIN:STANDARD
TZOFFSETFROM:-0700
TZOFFSETTO:-0800
TZNAME:PST
DTSTART:20261101T090000
END:STANDARD
END:VTIMEZONE
BEGIN:VEVENT
DTSTART;TZID=America/Los_Angeles:20251112T190000
DTEND;TZID=America/Los_Angeles:20251112T210000
DTSTAMP:20260424T151018
CREATED:20250917T182925Z
LAST-MODIFIED:20250918T230518Z
UID:13403-1762974000-1762981200@phtww.org
SUMMARY:The Last Class
DESCRIPTION:Gesa Power House Theatre proudly presents THE LAST CLASS on Wednesday\, November 12\, 2025\, at 7PM. \nThe Last Class is a nuanced and deeply personal portrait of master educator Robert Reich teaching his final course and reflecting on a period of immense transformation\, personally and globally. It is a love letter to education. The former Secretary of Labor might be famous for his public service\, best – selling books\, and viral social media posts\, but he always considered teaching his true calling. Now\, after over 40 years and an extraordinary 40\,000 students\, Reich is preparing for his last class. \nOver the course of the film\, Reich confronts the impending finality\, and his own aging\, with increasing candor\, introspection\, and\, ultimately\, emotion. He displays a rawness of feeling he has never shared publicly before. Drawing on his lifetime in politics\, he uses his class\, “Wealth and Poverty\,” to offer us all a deeper look at why inequalities of income and wealth have widened significantly since the late 1970s\, and why this poses dangerous risks to our society. \nOne thousand students fill the biggest lecture hall on the UC Berkeley campus\, the last class to receive Reich’s wisdom and exhortations not to accept that the world has to stay the way it is. His belief in the next generation’s ability to take on the fight is inspiring. \n \nReserved tickets are available for $15 ($10 for students)\, either online or via the Box Office at 509-529-6500. Want to receive early notice and access to ticket sales? Join the +Power Club (highest priority) or sign up for our email list (at the bottom of this page)!
URL:https://phtww.org/show/last-class/
LOCATION:Gesa Power House Theatre\, 111 North 6th Avenue\, Walla Walla\, WA\, 99362\, United States
CATEGORIES:2025 Lineup,Power House Movies
ATTACH;FMTTYPE=image/png:https://phtww.org/wp-content/uploads/2025/09/The-Last-Class.png
END:VEVENT
END:VCALENDAR