BEGIN:VCALENDAR
VERSION:2.0
PRODID:-//Gesa Power House Theatre - ECPv6.15.20//NONSGML v1.0//EN
CALSCALE:GREGORIAN
METHOD:PUBLISH
X-WR-CALNAME:Gesa Power House Theatre
X-ORIGINAL-URL:https://phtww.org
X-WR-CALDESC:Events for Gesa Power House Theatre
REFRESH-INTERVAL;VALUE=DURATION:PT1H
X-Robots-Tag:noindex
X-PUBLISHED-TTL:PT1H
BEGIN:VTIMEZONE
TZID:America/Los_Angeles
BEGIN:DAYLIGHT
TZOFFSETFROM:-0800
TZOFFSETTO:-0700
TZNAME:PDT
DTSTART:20240310T100000
END:DAYLIGHT
BEGIN:STANDARD
TZOFFSETFROM:-0700
TZOFFSETTO:-0800
TZNAME:PST
DTSTART:20241103T090000
END:STANDARD
BEGIN:DAYLIGHT
TZOFFSETFROM:-0800
TZOFFSETTO:-0700
TZNAME:PDT
DTSTART:20250309T100000
END:DAYLIGHT
BEGIN:STANDARD
TZOFFSETFROM:-0700
TZOFFSETTO:-0800
TZNAME:PST
DTSTART:20251102T090000
END:STANDARD
BEGIN:DAYLIGHT
TZOFFSETFROM:-0800
TZOFFSETTO:-0700
TZNAME:PDT
DTSTART:20260308T100000
END:DAYLIGHT
BEGIN:STANDARD
TZOFFSETFROM:-0700
TZOFFSETTO:-0800
TZNAME:PST
DTSTART:20261101T090000
END:STANDARD
END:VTIMEZONE
BEGIN:VEVENT
DTSTART;TZID=America/Los_Angeles:20251031T190000
DTEND;TZID=America/Los_Angeles:20251031T210000
DTSTAMP:20260424T150946
CREATED:20250731T224747Z
LAST-MODIFIED:20251029T170756Z
UID:13197-1761937200-1761944400@phtww.org
SUMMARY:Cabaret of the Dead
DESCRIPTION:Gesa Power House Theatre welcomes back to the stage Caravan of GLAM on Friday\, October 31 at 7PM for their presentation of CABARET OF THE DEAD. \nThe Caravan of GLAM is a flamboyant cabaret act featuring drag\, burlesque\, acrobatics\, and comedy. Expect the unexpected as each show is customized to the venue and no two shows are ever the same. Join us for a night to remember with a spooky Halloween twist! \nThe Caravan of GLAM formed in 2013\, appeared on America’s Got Talent in 2015\, were featured in the documentary film Burlesque: Heart of the Glitter Tribe\, and were scouted by ABC for a new dance-based reality competition. The Caravan of GLAM tours the United States and Canada\, and individual members also perform and tour as solo artists. Recommended age to attend this show is 16+. \nThis program is supported\, in part\, by a grant from the Washington State Arts Commission. This project is also supported in part by Creative West which receives support in part from the National Endowment for the Arts\, a federal agency. \nReserved seating tickets will be available to the general public starting August 15 at 8am. Tickets start at $30 ($20 for students) and are available online or by calling the box office at 509-529-6500. Want early access to tickets? Learn more about how you can support the performing arts and join our +Power Club HERE!
URL:https://phtww.org/show/cabaret-of-the-dead/
LOCATION:Gesa Power House Theatre\, 111 North 6th Avenue\, Walla Walla\, WA\, 99362\, United States
CATEGORIES:2025 Lineup,public
ATTACH;FMTTYPE=image/jpeg:https://phtww.org/wp-content/uploads/2025/10/Smal-Cabaret.jpg
END:VEVENT
END:VCALENDAR