BEGIN:VCALENDAR
VERSION:2.0
PRODID:-//Gesa Power House Theatre - ECPv6.15.20//NONSGML v1.0//EN
CALSCALE:GREGORIAN
METHOD:PUBLISH
X-ORIGINAL-URL:https://phtww.org
X-WR-CALDESC:Events for Gesa Power House Theatre
REFRESH-INTERVAL;VALUE=DURATION:PT1H
X-Robots-Tag:noindex
X-PUBLISHED-TTL:PT1H
BEGIN:VTIMEZONE
TZID:America/Los_Angeles
BEGIN:DAYLIGHT
TZOFFSETFROM:-0800
TZOFFSETTO:-0700
TZNAME:PDT
DTSTART:20240310T100000
END:DAYLIGHT
BEGIN:STANDARD
TZOFFSETFROM:-0700
TZOFFSETTO:-0800
TZNAME:PST
DTSTART:20241103T090000
END:STANDARD
BEGIN:DAYLIGHT
TZOFFSETFROM:-0800
TZOFFSETTO:-0700
TZNAME:PDT
DTSTART:20250309T100000
END:DAYLIGHT
BEGIN:STANDARD
TZOFFSETFROM:-0700
TZOFFSETTO:-0800
TZNAME:PST
DTSTART:20251102T090000
END:STANDARD
BEGIN:DAYLIGHT
TZOFFSETFROM:-0800
TZOFFSETTO:-0700
TZNAME:PDT
DTSTART:20260308T100000
END:DAYLIGHT
BEGIN:STANDARD
TZOFFSETFROM:-0700
TZOFFSETTO:-0800
TZNAME:PST
DTSTART:20261101T090000
END:STANDARD
END:VTIMEZONE
BEGIN:VEVENT
DTSTART;TZID=America/Los_Angeles:20251029T190000
DTEND;TZID=America/Los_Angeles:20251029T210000
DTSTAMP:20260424T151049
CREATED:20250808T111056Z
LAST-MODIFIED:20250811T162808Z
UID:13321-1761764400-1761771600@phtww.org
SUMMARY:Checkpoint Zoo
DESCRIPTION:Gesa Power House Theatre proudly presents CHECKPOINT ZOO on Wednesday\, October 29\, 2025\, at 7PM. \nCheckpoint Zoo documents a daring rescue led by a heroic team of zookeepers and volunteers who risked their lives to save thousands of animals trapped in a zoo behind enemy lines during the Russian invasion of Ukraine.\n\nOn February 24\, 2022\, Russia invaded Ukraine\, starting the worst war Europe has seen in over 50 years. In the early days of the invasion\, some of the fiercest fighting was on the outskirts of Kharkiv\, Ukraine’s second – largest city. On one side was the advancing Russian Army\, on the other side the\ndefending Ukrainian Army. And in between them was a zoo… called Feldman Ecopark. \nMore than just a sanctuary for animals\, Feldman Ecopark offered countless community programs from animal therapy to charity events for children with special needs. It was a cultural center for Kharkiv’s 1.4 million citizens\, unfortunately positioned less than 30 kilometers from the Russian border. When the invasion started\, Kharkiv turned into a battleground\, and the staff was forced to flee Ecopark\, leaving 5\,000 animals trapped in between the Russian and Ukrainian frontlines. Both sides were firing on each other\, and everything that fell short landed in Feldman Ecopark. But that wasn’t enough to stop several brave zookeepers from venturing back into the park time and time again to continue caring for the surviving animals. When two zookeepers were killed\, four\nvolunteers appeared on Feldman’s doorstep\, ready to help in any way they could. \nAs the war continued\, and the shelling increased\, it was clear that even the incredible bravery of the zoo staff wouldn’t be enough to save the animals. The zoo’s founder\, Oleksandr Feldman\, posted a desperate plea to social media asking for help. Miraculously\, the post went viral\, and zoos from across Ukraine and all of Europe volunteered to house the remaining animals. \nEncouraged by the response\, the zoo staff and these volunteers resolved to do the impossible – they would sneak back into Feldman Ecopark and evacuate thousands of animals\, including many dangerous predators\, and bring them to safety. In doing so\, they put themselves in incredible danger\, risking their lives to save innocent animals. \nWorking from footage captured by the zookeepers\, volunteers\, news media\, and himself on his own trip to Ukraine\, filmmaker Joshua Zeman tells the moving\, suspenseful\, and powerful story of these real – life heroes. The film details the initial attack\, the efforts to continue tending to the trapped animals\, the hair – raising evacuation\, and tragically\, the price these volunteers paid to do the right thing. \nThe zookeepers and volunteers of Checkpoint Zoo show us the absolute best of humanity at a time when it is all too easy to focus on the worst. In the face of violence\, destruction\, and cruelty\, this film is a testament to the power of compassion\, empathy\, and sacrifice. \nThis program is supported\, in part\, by a grant from the Washington State Arts Commission.  \nReserved tickets will be available for $15 ($10 for students) on August 15th\, either online or via the Box Office at 509-529-6500. Want to receive early notice and access to ticket sales? Join the +Power Club (highest priority) or sign up for our email list (at the bottom of this page)!
URL:https://phtww.org/show/checkpoint-zoo/
LOCATION:Gesa Power House Theatre\, 111 North 6th Avenue\, Walla Walla\, WA\, 99362\, United States
CATEGORIES:2025 Lineup,Power House Movies
ATTACH;FMTTYPE=image/jpeg:https://phtww.org/wp-content/uploads/2025/08/CheckpointZoo_KeyArt-27x40_FINAL-WebReady-scaled.jpg
END:VEVENT
END:VCALENDAR