BEGIN:VCALENDAR
VERSION:2.0
PRODID:-//Gesa Power House Theatre - ECPv6.15.20//NONSGML v1.0//EN
CALSCALE:GREGORIAN
METHOD:PUBLISH
X-WR-CALNAME:Gesa Power House Theatre
X-ORIGINAL-URL:https://phtww.org
X-WR-CALDESC:Events for Gesa Power House Theatre
REFRESH-INTERVAL;VALUE=DURATION:PT1H
X-Robots-Tag:noindex
X-PUBLISHED-TTL:PT1H
BEGIN:VTIMEZONE
TZID:America/Los_Angeles
BEGIN:DAYLIGHT
TZOFFSETFROM:-0800
TZOFFSETTO:-0700
TZNAME:PDT
DTSTART:20240310T100000
END:DAYLIGHT
BEGIN:STANDARD
TZOFFSETFROM:-0700
TZOFFSETTO:-0800
TZNAME:PST
DTSTART:20241103T090000
END:STANDARD
BEGIN:DAYLIGHT
TZOFFSETFROM:-0800
TZOFFSETTO:-0700
TZNAME:PDT
DTSTART:20250309T100000
END:DAYLIGHT
BEGIN:STANDARD
TZOFFSETFROM:-0700
TZOFFSETTO:-0800
TZNAME:PST
DTSTART:20251102T090000
END:STANDARD
BEGIN:DAYLIGHT
TZOFFSETFROM:-0800
TZOFFSETTO:-0700
TZNAME:PDT
DTSTART:20260308T100000
END:DAYLIGHT
BEGIN:STANDARD
TZOFFSETFROM:-0700
TZOFFSETTO:-0800
TZNAME:PST
DTSTART:20261101T090000
END:STANDARD
END:VTIMEZONE
BEGIN:VEVENT
DTSTART;TZID=America/Los_Angeles:20251023T180000
DTEND;TZID=America/Los_Angeles:20251023T200000
DTSTAMP:20260424T162351
CREATED:20250729T232047Z
LAST-MODIFIED:20250816T133932Z
UID:13158-1761242400-1761249600@phtww.org
SUMMARY:Fly Fishing Film Tour
DESCRIPTION:Please join host Washington Water Trust for a benefit screening of the 19th annual Fly Fishing Film Tour (F3T) on Thursday\, Oct. 23\, 2025. Doors open at 6 PM and films start at 7 PM. Tickets are now available online and will be sold at the theatre after 6 PM the day of the event. \nBuy tickets today! \nThe Fly Fishing Film Tour is a roadshow of new fly fishing films that showcase the beauty\, adventure\, and excitement of the sport. It provides an opportunity for the fly fishing community to gather\, share stories\, and experience incredible films together. Check out the trailer: https://flyfilmtour.com/film/2025-fly-fishing-film-tour-official-trailer/ \nWashington Water Trust will also host a silent auction and a raffle with outdoor gear. Proceeds from this benefit screening support projects that restore water to rivers and streams from the San Juans to Walla Walla. \nLearn more about WWT: https://www.washingtonwatertrust.org/\n\nThis event is a rental by Washington Water Trust. Want to rent the theater for your own event? Click here to learn more!
URL:https://phtww.org/show/fly-fishing-film-tour-3/
LOCATION:Gesa Power House Theatre\, 111 North 6th Avenue\, Walla Walla\, WA\, 99362\, United States
CATEGORIES:2025 Lineup,public
END:VEVENT
END:VCALENDAR