BEGIN:VCALENDAR
VERSION:2.0
PRODID:-//Gesa Power House Theatre - ECPv6.15.20//NONSGML v1.0//EN
CALSCALE:GREGORIAN
METHOD:PUBLISH
X-ORIGINAL-URL:https://phtww.org
X-WR-CALDESC:Events for Gesa Power House Theatre
REFRESH-INTERVAL;VALUE=DURATION:PT1H
X-Robots-Tag:noindex
X-PUBLISHED-TTL:PT1H
BEGIN:VTIMEZONE
TZID:America/Los_Angeles
BEGIN:DAYLIGHT
TZOFFSETFROM:-0800
TZOFFSETTO:-0700
TZNAME:PDT
DTSTART:20240310T100000
END:DAYLIGHT
BEGIN:STANDARD
TZOFFSETFROM:-0700
TZOFFSETTO:-0800
TZNAME:PST
DTSTART:20241103T090000
END:STANDARD
BEGIN:DAYLIGHT
TZOFFSETFROM:-0800
TZOFFSETTO:-0700
TZNAME:PDT
DTSTART:20250309T100000
END:DAYLIGHT
BEGIN:STANDARD
TZOFFSETFROM:-0700
TZOFFSETTO:-0800
TZNAME:PST
DTSTART:20251102T090000
END:STANDARD
BEGIN:DAYLIGHT
TZOFFSETFROM:-0800
TZOFFSETTO:-0700
TZNAME:PDT
DTSTART:20260308T100000
END:DAYLIGHT
BEGIN:STANDARD
TZOFFSETFROM:-0700
TZOFFSETTO:-0800
TZNAME:PST
DTSTART:20261101T090000
END:STANDARD
END:VTIMEZONE
BEGIN:VEVENT
DTSTART;TZID=America/Los_Angeles:20250923T190000
DTEND;TZID=America/Los_Angeles:20250923T213000
DTSTAMP:20260424T174555
CREATED:20250829T205726Z
LAST-MODIFIED:20250905T235025Z
UID:13371-1758654000-1758663000@phtww.org
SUMMARY:The Lowdown
DESCRIPTION:PREMIERE! First Two Episodes of FX’s\nThe Lowdown\nwith Kyle MacLachlan\, in-person \nGesa Power house Theatre is proud to welcome Kyle MacLachlan to Walla Walla for a special screening of the first two episodes of FX’s new show\, The Lowdown\, starring Ethan Hawke\, Kyle MacLachlan\, Keith David and more on Tuesday\, September 23 at 7 pm. \nDon’t miss your chance to attend this exclusive premiere with Kyle\, known around these parts not only for his acting but also for his winemaking. A selection of Kyle’s Pursued by Bear wines will be available for purchase by the glass before the show. \nThe Lowdown – A determined bookstore owner in Tulsa moonlights as an investigative journalist\, digging into local corruption. When his reporting uncovers sinister connections\, he must protect both his family and the truth. \nThere is no fee for this event\, but seating is limited\, so reserve your seat today at phtww.org.
URL:https://phtww.org/show/the-lowdown/
LOCATION:Gesa Power House Theatre\, 111 North 6th Avenue\, Walla Walla\, WA\, 99362\, United States
CATEGORIES:2025 Lineup,public
ATTACH;FMTTYPE=image/jpeg:https://phtww.org/wp-content/uploads/2025/08/Add-a-little-bit-of-body-text-1.jpg
END:VEVENT
END:VCALENDAR