BEGIN:VCALENDAR
VERSION:2.0
PRODID:-//Gesa Power House Theatre - ECPv6.15.20//NONSGML v1.0//EN
CALSCALE:GREGORIAN
METHOD:PUBLISH
X-ORIGINAL-URL:https://phtww.org
X-WR-CALDESC:Events for Gesa Power House Theatre
REFRESH-INTERVAL;VALUE=DURATION:PT1H
X-Robots-Tag:noindex
X-PUBLISHED-TTL:PT1H
BEGIN:VTIMEZONE
TZID:America/Los_Angeles
BEGIN:DAYLIGHT
TZOFFSETFROM:-0800
TZOFFSETTO:-0700
TZNAME:PDT
DTSTART:20240310T100000
END:DAYLIGHT
BEGIN:STANDARD
TZOFFSETFROM:-0700
TZOFFSETTO:-0800
TZNAME:PST
DTSTART:20241103T090000
END:STANDARD
BEGIN:DAYLIGHT
TZOFFSETFROM:-0800
TZOFFSETTO:-0700
TZNAME:PDT
DTSTART:20250309T100000
END:DAYLIGHT
BEGIN:STANDARD
TZOFFSETFROM:-0700
TZOFFSETTO:-0800
TZNAME:PST
DTSTART:20251102T090000
END:STANDARD
BEGIN:DAYLIGHT
TZOFFSETFROM:-0800
TZOFFSETTO:-0700
TZNAME:PDT
DTSTART:20260308T100000
END:DAYLIGHT
BEGIN:STANDARD
TZOFFSETFROM:-0700
TZOFFSETTO:-0800
TZNAME:PST
DTSTART:20261101T090000
END:STANDARD
END:VTIMEZONE
BEGIN:VEVENT
DTSTART;TZID=America/Los_Angeles:20250921T140000
DTEND;TZID=America/Los_Angeles:20250921T160000
DTSTAMP:20260424T174458
CREATED:20250616T155853Z
LAST-MODIFIED:20250719T020805Z
UID:12998-1758463200-1758470400@phtww.org
SUMMARY:Letters From Max
DESCRIPTION:Letters from Max\nBy Sarah Ruhl\nBased on the book by Sarah Ruhl and Max Ritvo \nGesa Power House Theatre proudly presents the live theater performance of Letters From Max\, directed by Nancy Simon\, on Saturday\, September 20\, 2025\, at 7PM\, and Sunday\, September 21\, 2025 at 2PM. This program is supported\, in part\, by a grant from the Washington State Arts Commission.  \n“It’s a theatrical act of remembrance and a sacrament of grief\, but it’s also a comedy… go see the play\, and feel their relationship alive and tingling.” – The New York Times \n“A lesson in how to love.”—The Arts Desk \nThis play is an adaptation of Sarah Ruhl and Max Ritvo’s 2018 epistolary book\, Letters from Max. A Poet\, a Teacher\, a Friendship\, this intimate\, poetic play explores the relationship between Sarah and her former student\, Max. With humor\, lyricism and candor\, the two friends share letters and poems as Max faces terminal illness and tests poetry’s capacity to put to words what otherwise feels ineffable. \n“We’ll always know one another forever\, however long ever is. And that’s all I want—is to know you forever.” \nLetters From Max premiered off-broadway in 2023 at Signature Theater in New York City\, directed by Kate Whoriskey and starring Jessica Hecht\, Zane Pais\, and Ben Edelman. \n“Letters From Max” is presented by arrangement with Concord Theatricals on behalf of Samuel French\, Inc. www.concordtheatricals.com \nReserved tickets are available NOW starting at just $15\, either online or via the Box Office at 509-529-6500. Want to receive early notice and access to ticket sales? Join the +Power Club (highest priority) or sign up for our email list (at the bottom of this page)!
URL:https://phtww.org/show/letters-from-max-2/
LOCATION:Gesa Power House Theatre\, 111 North 6th Avenue\, Walla Walla\, WA\, 99362\, United States
CATEGORIES:2025 Lineup,public
ATTACH;FMTTYPE=image/png:https://phtww.org/wp-content/uploads/2025/06/LETTERS-FROM-MAX-png.webp
END:VEVENT
END:VCALENDAR