BEGIN:VCALENDAR
VERSION:2.0
PRODID:-//Gesa Power House Theatre - ECPv6.15.20//NONSGML v1.0//EN
CALSCALE:GREGORIAN
METHOD:PUBLISH
X-WR-CALNAME:Gesa Power House Theatre
X-ORIGINAL-URL:https://phtww.org
X-WR-CALDESC:Events for Gesa Power House Theatre
REFRESH-INTERVAL;VALUE=DURATION:PT1H
X-Robots-Tag:noindex
X-PUBLISHED-TTL:PT1H
BEGIN:VTIMEZONE
TZID:America/Los_Angeles
BEGIN:DAYLIGHT
TZOFFSETFROM:-0800
TZOFFSETTO:-0700
TZNAME:PDT
DTSTART:20240310T100000
END:DAYLIGHT
BEGIN:STANDARD
TZOFFSETFROM:-0700
TZOFFSETTO:-0800
TZNAME:PST
DTSTART:20241103T090000
END:STANDARD
BEGIN:DAYLIGHT
TZOFFSETFROM:-0800
TZOFFSETTO:-0700
TZNAME:PDT
DTSTART:20250309T100000
END:DAYLIGHT
BEGIN:STANDARD
TZOFFSETFROM:-0700
TZOFFSETTO:-0800
TZNAME:PST
DTSTART:20251102T090000
END:STANDARD
BEGIN:DAYLIGHT
TZOFFSETFROM:-0800
TZOFFSETTO:-0700
TZNAME:PDT
DTSTART:20260308T100000
END:DAYLIGHT
BEGIN:STANDARD
TZOFFSETFROM:-0700
TZOFFSETTO:-0800
TZNAME:PST
DTSTART:20261101T090000
END:STANDARD
END:VTIMEZONE
BEGIN:VEVENT
DTSTART;TZID=America/Los_Angeles:20250824T140000
DTEND;TZID=America/Los_Angeles:20250824T163000
DTSTAMP:20260424T185608
CREATED:20250627T011239Z
LAST-MODIFIED:20250719T020048Z
UID:13065-1756044000-1756053000@phtww.org
SUMMARY:The Grateful Dead Movie 2025 Meet-Up
DESCRIPTION:Gesa Power House Theatre proudly presents The Grateful Dead Movie 2025 Meet-Up on Wednesday\, August 20 at 7PM\, and Sunday\, August 24 at 2PM. This program is supported\, in part\, by a grant from the Washington State Arts Commission.  \nThis year we celebrate the band’s 60th anniversary\, as well as recognize the 30th anniversary since frontman Jerry Garcia’s death and the first Meet-Up since bassist Phil Lesh passed. \nThe Grateful Dead Movie is an immersive concert film that captures The Grateful Dead’s five-night run at San Francisco’s Winterland Ballroom in October 1974 – their farewell tour before a temporary hiatus. Blending electrifying live performances with animation\, candid backstage footage\, and interviews\, the film is a cultural time capsule of the Deadhead experience. This beloved film is a fan favorite and will be screened as part of our continued Grateful Dead ‘Meet-Up at the Movies’ Regular Offering. It is the 12th of the regular Deadhead Meet-Ups in cinemas. \nJerry Garcia\, co-founder and face of the band who died in 1995\, co-directed the film. Additional content comes in the form of a big screen exclusive theatrical premiere of “China Cat Sunflower>I Know You Rider” – a bonus live performance from the October ‘74 Winterland shows not included in the official film release.\nThe Grateful Dead are an iconic American rock band\, who formed in 1965 in Palo Alto\, California. They are known for their devoted fanbase – their die-hard followers\, known as Deadheads\, followed them on tour and created a unique subculture centered around live music and community.\n\nTickets are available for $15 ($10 for students) NOW\, either online or via the Box Office at 509-529-6500.
URL:https://phtww.org/show/the-grateful-dead-movie-2025-meet-up-2/
LOCATION:Gesa Power House Theatre\, 111 North 6th Avenue\, Walla Walla\, WA\, 99362\, United States
CATEGORIES:2025 Lineup,Live Cinema
ATTACH;FMTTYPE=image/jpeg:https://phtww.org/wp-content/uploads/2025/06/THE-GRATEFUL-DEAD-MOVIE_ONE-SHEET_ARTWORK-ENGLISH.webp
END:VEVENT
END:VCALENDAR