BEGIN:VCALENDAR
VERSION:2.0
PRODID:-//Gesa Power House Theatre - ECPv6.15.20//NONSGML v1.0//EN
CALSCALE:GREGORIAN
METHOD:PUBLISH
X-ORIGINAL-URL:https://phtww.org
X-WR-CALDESC:Events for Gesa Power House Theatre
REFRESH-INTERVAL;VALUE=DURATION:PT1H
X-Robots-Tag:noindex
X-PUBLISHED-TTL:PT1H
BEGIN:VTIMEZONE
TZID:America/Los_Angeles
BEGIN:DAYLIGHT
TZOFFSETFROM:-0800
TZOFFSETTO:-0700
TZNAME:PDT
DTSTART:20240310T100000
END:DAYLIGHT
BEGIN:STANDARD
TZOFFSETFROM:-0700
TZOFFSETTO:-0800
TZNAME:PST
DTSTART:20241103T090000
END:STANDARD
BEGIN:DAYLIGHT
TZOFFSETFROM:-0800
TZOFFSETTO:-0700
TZNAME:PDT
DTSTART:20250309T100000
END:DAYLIGHT
BEGIN:STANDARD
TZOFFSETFROM:-0700
TZOFFSETTO:-0800
TZNAME:PST
DTSTART:20251102T090000
END:STANDARD
BEGIN:DAYLIGHT
TZOFFSETFROM:-0800
TZOFFSETTO:-0700
TZNAME:PDT
DTSTART:20260308T100000
END:DAYLIGHT
BEGIN:STANDARD
TZOFFSETFROM:-0700
TZOFFSETTO:-0800
TZNAME:PST
DTSTART:20261101T090000
END:STANDARD
END:VTIMEZONE
BEGIN:VEVENT
DTSTART;TZID=America/Los_Angeles:20250817T140000
DTEND;TZID=America/Los_Angeles:20250817T163000
DTSTAMP:20260424T185855
CREATED:20241122T160035Z
LAST-MODIFIED:20250403T011302Z
UID:12391-1755439200-1755448200@phtww.org
SUMMARY:Little Shop of Horrors
DESCRIPTION:Walla Walla Summer Theater proudly presents the delightfully dark and comedic musical\, “Little Shop of Horrors\,” running from August 7th to 17th\, 2025. This exciting production stars Brad Willcuts as the endearing yet hapless Seymour Krelborn and features Tyson Kaup providing the powerful and unforgettable voice of Audrey II\, the mysterious and menacing plant.  “Little Shop of Horrors” tells the story of Seymour Krelborn\, a meek and struggling floral assistant who discovers an unusual plant after a total eclipse of the sun. Naming it Audrey II after his coworker and secret crush\, Seymour soon realizes his plant holds a sinister secret— it thrives on human blood. As Audrey II grows\, so does its appetite\, leading Seymour down a dark and dangerous path filled with both comedic and horrific twists. With memorable music by Alan Menken and lyrics by Howard Ashman\, this iconic musical explores themes of ambition\, romance\, and the consequences of unchecked desires. An incredible opportunity to experience top-notch theater in the heart of the valley. Secure your seats now for a night of thrills\, laughter\, and toe-tapping tunes! Produced by Walla Walla Summer Theater Directed by Tyson Kaup Music Directed by Mitchell Brownell Choreography by Justine Clark Book and Lyrics by Howard Ashman Music by Alan Menken Based on the film by Roger Corman\, Screenplay by Charles Griffith Originally produced by the WPA Theatre (Kyle Renick\, Producing Director). Originally produced at the Orpheum Theatre\, New York City by the WPA Theatre\, David Geffen\, Cameron Mackintosh and the Shubert Organization.This production is recommended for ages 5 and up. This production is licensed by Music Theatre International. Tickets are available for $49\, either online or by calling the box office at 509-529-6500. This event is a rental. Learn more about renting the theater for your own event here!
URL:https://phtww.org/show/little-shop-of-horrors-10/
LOCATION:Gesa Power House Theatre\, 111 North 6th Avenue\, Walla Walla\, WA\, 99362\, United States
CATEGORIES:2025 Lineup,public
ATTACH;FMTTYPE=image/jpeg:https://phtww.org/wp-content/uploads/2024/11/LSOH_Full-Art_SQ_Title-on-Plant.jpg
END:VEVENT
END:VCALENDAR