BEGIN:VCALENDAR
VERSION:2.0
PRODID:-//Gesa Power House Theatre - ECPv6.15.20//NONSGML v1.0//EN
CALSCALE:GREGORIAN
METHOD:PUBLISH
X-ORIGINAL-URL:https://phtww.org
X-WR-CALDESC:Events for Gesa Power House Theatre
REFRESH-INTERVAL;VALUE=DURATION:PT1H
X-Robots-Tag:noindex
X-PUBLISHED-TTL:PT1H
BEGIN:VTIMEZONE
TZID:America/Los_Angeles
BEGIN:DAYLIGHT
TZOFFSETFROM:-0800
TZOFFSETTO:-0700
TZNAME:PDT
DTSTART:20240310T100000
END:DAYLIGHT
BEGIN:STANDARD
TZOFFSETFROM:-0700
TZOFFSETTO:-0800
TZNAME:PST
DTSTART:20241103T090000
END:STANDARD
BEGIN:DAYLIGHT
TZOFFSETFROM:-0800
TZOFFSETTO:-0700
TZNAME:PDT
DTSTART:20250309T100000
END:DAYLIGHT
BEGIN:STANDARD
TZOFFSETFROM:-0700
TZOFFSETTO:-0800
TZNAME:PST
DTSTART:20251102T090000
END:STANDARD
BEGIN:DAYLIGHT
TZOFFSETFROM:-0800
TZOFFSETTO:-0700
TZNAME:PDT
DTSTART:20260308T100000
END:DAYLIGHT
BEGIN:STANDARD
TZOFFSETFROM:-0700
TZOFFSETTO:-0800
TZNAME:PST
DTSTART:20261101T090000
END:STANDARD
END:VTIMEZONE
BEGIN:VEVENT
DTSTART;TZID=America/Los_Angeles:20250816T140000
DTEND;TZID=America/Los_Angeles:20250816T140000
DTSTAMP:20260424T185736
CREATED:20241122T160025Z
LAST-MODIFIED:20250403T011431Z
UID:12386-1755352800-1755352800@phtww.org
SUMMARY:Little Shop of Horrors
DESCRIPTION:Walla Walla Summer Theater proudly presents the delightfully dark and comedic musical\, “Little Shop of Horrors\,” running from August 7th to 17th\, 2025. This exciting production stars Brad Willcuts as the endearing yet hapless Seymour Krelborn and features Tyson Kaup providing the powerful and unforgettable voice of Audrey II\, the mysterious and menacing plant.  \n“Little Shop of Horrors” tells the story of Seymour Krelborn\, a meek and struggling floral assistant who discovers an unusual plant after a total eclipse of the sun. Naming it Audrey II after his coworker and secret crush\, Seymour soon realizes his plant holds a sinister secret— it thrives on human blood. As Audrey II grows\, so does its appetite\, leading Seymour down a dark and dangerous path filled with both comedic and horrific twists. With memorable music by Alan Menken and lyrics by Howard Ashman\, this iconic musical explores themes of ambition\, romance\, and the consequences of unchecked desires. \nAn incredible opportunity to experience top-notch theater in the heart of the valley. Secure your seats now for a night of thrills\, laughter\, and toe-tapping tunes! \nProduced by Walla Walla Summer Theater \nDirected by Tyson Kaup\nMusic Directed by Mitchell Brownell\nChoreography by Justine Clark\nBook and Lyrics by Howard Ashman\nMusic by Alan Menken\nBased on the film by Roger Corman\, Screenplay by Charles Griffith\nOriginally produced by the WPA Theatre (Kyle Renick\, Producing Director)\nOriginally produced at the Orpheum Theatre\, New York City by the WPA Theatre\, David Geffen\, Cameron Mackintosh and the Shubert Organization\nThis production is recommended for ages 5 and up.\nThis production is licensed by Music Theatre International. \nTickets are available for $49\, either online or by calling the box office at 509-529-6500. This event is a rental. Learn more about renting the theater for your own event here!
URL:https://phtww.org/show/little-shop-of-horrors-8/
LOCATION:Gesa Power House Theatre\, 111 North 6th Avenue\, Walla Walla\, WA\, 99362\, United States
CATEGORIES:2025 Lineup,public
ATTACH;FMTTYPE=image/jpeg:https://phtww.org/wp-content/uploads/2024/11/LSOH_Full-Art_SQ_Title-on-Plant.jpg
END:VEVENT
BEGIN:VEVENT
DTSTART;TZID=America/Los_Angeles:20250816T190000
DTEND;TZID=America/Los_Angeles:20250816T190000
DTSTAMP:20260424T185736
CREATED:20241122T160010Z
LAST-MODIFIED:20250403T011358Z
UID:12388-1755370800-1755370800@phtww.org
SUMMARY:Little Shop of Horrors
DESCRIPTION:Walla Walla Summer Theater proudly presents the delightfully dark and comedic musical\, “Little Shop of Horrors\,” running from August 7th to 17th\, 2025. This exciting production stars Brad Willcuts as the endearing yet hapless Seymour Krelborn and features Tyson Kaup providing the powerful and unforgettable voice of Audrey II\, the mysterious and menacing plant.  \n“Little Shop of Horrors” tells the story of Seymour Krelborn\, a meek and struggling floral assistant who discovers an unusual plant after a total eclipse of the sun. Naming it Audrey II after his coworker and secret crush\, Seymour soon realizes his plant holds a sinister secret— it thrives on human blood. As Audrey II grows\, so does its appetite\, leading Seymour down a dark and dangerous path filled with both comedic and horrific twists. With memorable music by Alan Menken and lyrics by Howard Ashman\, this iconic musical explores themes of ambition\, romance\, and the consequences of unchecked desires. \nAn incredible opportunity to experience top-notch theater in the heart of the valley. Secure your seats now for a night of thrills\, laughter\, and toe-tapping tunes! \n \nProduced by Walla Walla Summer Theater \nDirected by Tyson Kaup\nMusic Directed by Mitchell Brownell\nChoreography by Justine Clark\nBook and Lyrics by Howard Ashman\nMusic by Alan Menken\nBased on the film by Roger Corman\, Screenplay by Charles Griffith\nOriginally produced by the WPA Theatre (Kyle Renick\, Producing Director)\nOriginally produced at the Orpheum Theatre\, New York City by the WPA Theatre\, David Geffen\, Cameron Mackintosh and the Shubert Organization\nThis production is recommended for ages 5 and up.\nThis production is licensed by Music Theatre International. \nTickets are available for $49\, either online or by calling the box office at 509-529-6500. This event is a rental. Learn more about renting the theater for your own event here!
URL:https://phtww.org/show/little-shop-of-horrors-9/
LOCATION:Gesa Power House Theatre\, 111 North 6th Avenue\, Walla Walla\, WA\, 99362\, United States
CATEGORIES:2025 Lineup,public
ATTACH;FMTTYPE=image/jpeg:https://phtww.org/wp-content/uploads/2024/11/LSOH_Full-Art_SQ_Title-on-Plant.jpg
END:VEVENT
END:VCALENDAR