BEGIN:VCALENDAR
VERSION:2.0
PRODID:-//Gesa Power House Theatre - ECPv6.15.20//NONSGML v1.0//EN
CALSCALE:GREGORIAN
METHOD:PUBLISH
X-ORIGINAL-URL:https://phtww.org
X-WR-CALDESC:Events for Gesa Power House Theatre
REFRESH-INTERVAL;VALUE=DURATION:PT1H
X-Robots-Tag:noindex
X-PUBLISHED-TTL:PT1H
BEGIN:VTIMEZONE
TZID:America/Los_Angeles
BEGIN:DAYLIGHT
TZOFFSETFROM:-0800
TZOFFSETTO:-0700
TZNAME:PDT
DTSTART:20240310T100000
END:DAYLIGHT
BEGIN:STANDARD
TZOFFSETFROM:-0700
TZOFFSETTO:-0800
TZNAME:PST
DTSTART:20241103T090000
END:STANDARD
BEGIN:DAYLIGHT
TZOFFSETFROM:-0800
TZOFFSETTO:-0700
TZNAME:PDT
DTSTART:20250309T100000
END:DAYLIGHT
BEGIN:STANDARD
TZOFFSETFROM:-0700
TZOFFSETTO:-0800
TZNAME:PST
DTSTART:20251102T090000
END:STANDARD
BEGIN:DAYLIGHT
TZOFFSETFROM:-0800
TZOFFSETTO:-0700
TZNAME:PDT
DTSTART:20260308T100000
END:DAYLIGHT
BEGIN:STANDARD
TZOFFSETFROM:-0700
TZOFFSETTO:-0800
TZNAME:PST
DTSTART:20261101T090000
END:STANDARD
END:VTIMEZONE
BEGIN:VEVENT
DTSTART;TZID=America/Los_Angeles:20250608T140000
DTEND;TZID=America/Los_Angeles:20250608T160000
DTSTAMP:20260424T205831
CREATED:20250201T160001Z
LAST-MODIFIED:20250508T194946Z
UID:12572-1749391200-1749398400@phtww.org
SUMMARY:VENTASTIC!
DESCRIPTION:Gesa Power House Theatre proudly presents Ventastic on Sunday\, June 8\, 2025\, at 2 PM. \nMichael Harrison is an award winning ventriloquist and puppeteer based in Victoria\, BC Canada. He tours worldwide with his incredible show Ventastic. Michael turns ventriloquism upside-down with his original puppets and creative routines that have amazed audiences of all ages for over 30 years. \nMichael channels the talents of his legendary great grandfather\, Frank Merryfield (vaudeville ventriloquist) into a one-man\, laugh out loud romp into the past with his new up to date twist on this long lost art form. Michael is a talented ventriloquist\, puppeteer and comedian with a lifetime of experience in this unique field of entertainment. He has worked with Kelly Clarkson\, The Muppets and Boyz to Men. \nMichael took his talents to a new level when he appeared on America’s Got Talent\, receiving glowing reviews from the celebrity judges. He has written and performed on the award winning television show “Kids in the Firehall” (Bronze Apple Award Winner) and is the star of the reality television pilot “The Dummy Test”. \nReserved tickets will be available for $12 ($8 for children under 12) on February 15th\, either online or via the Box Office at 509-529-6500. Want to receive early notice and access to ticket sales? Join the +Power Club (highest priority) or sign up for our email list (at the bottom of this page)!
URL:https://phtww.org/show/ventastic/
LOCATION:Gesa Power House Theatre\, 111 North 6th Avenue\, Walla Walla\, WA\, 99362\, United States
CATEGORIES:2025 Lineup,Little Watts,public
ATTACH;FMTTYPE=image/png:https://phtww.org/wp-content/uploads/2025/01/Ventastic_edited-3-copy-e1738178026565.png
END:VEVENT
END:VCALENDAR