BEGIN:VCALENDAR
VERSION:2.0
PRODID:-//Gesa Power House Theatre - ECPv6.15.20//NONSGML v1.0//EN
CALSCALE:GREGORIAN
METHOD:PUBLISH
X-WR-CALNAME:Gesa Power House Theatre
X-ORIGINAL-URL:https://phtww.org
X-WR-CALDESC:Events for Gesa Power House Theatre
REFRESH-INTERVAL;VALUE=DURATION:PT1H
X-Robots-Tag:noindex
X-PUBLISHED-TTL:PT1H
BEGIN:VTIMEZONE
TZID:America/Los_Angeles
BEGIN:DAYLIGHT
TZOFFSETFROM:-0800
TZOFFSETTO:-0700
TZNAME:PDT
DTSTART:20240310T100000
END:DAYLIGHT
BEGIN:STANDARD
TZOFFSETFROM:-0700
TZOFFSETTO:-0800
TZNAME:PST
DTSTART:20241103T090000
END:STANDARD
BEGIN:DAYLIGHT
TZOFFSETFROM:-0800
TZOFFSETTO:-0700
TZNAME:PDT
DTSTART:20250309T100000
END:DAYLIGHT
BEGIN:STANDARD
TZOFFSETFROM:-0700
TZOFFSETTO:-0800
TZNAME:PST
DTSTART:20251102T090000
END:STANDARD
BEGIN:DAYLIGHT
TZOFFSETFROM:-0800
TZOFFSETTO:-0700
TZNAME:PDT
DTSTART:20260308T100000
END:DAYLIGHT
BEGIN:STANDARD
TZOFFSETFROM:-0700
TZOFFSETTO:-0800
TZNAME:PST
DTSTART:20261101T090000
END:STANDARD
END:VTIMEZONE
BEGIN:VEVENT
DTSTART;TZID=America/Los_Angeles:20250524T190000
DTEND;TZID=America/Los_Angeles:20250524T210000
DTSTAMP:20260424T194840
CREATED:20240829T191125Z
LAST-MODIFIED:20250525T010303Z
UID:11994-1748113200-1748120400@phtww.org
SUMMARY:Steve Hofstetter: Kill the Butterflies
DESCRIPTION:Gesa Power House Theatre proudly presents stand-up comedy by Steve Hofstetter on Saturday\, May 24\, 2025 at 7PM! \nWe are thrilled to welcome back Steve Hofstetter\, who last graced our stage in April for the unforgettable Kill the Butterflies Tour! Don’t miss your chance to see him again live! \nComedian and podcast host Steve Hofstetter\, who has a whopping 185 million views on YouTube\, is also the host of Finding Babe Ruth on FS1. His book\, Ginger Kid\, is a top 5 pick on Amazon and debuted at number one in its category. Hofstetter was the host and executive producer of season one of Laughs (Fox Television stations) and he has been on The Late Late Show with Craig Ferguson and E! True Hollywood Story\, Comics Unleashed\, Comedy All-Stars\, Quite Frankly\, White Boyz in the Hood\, Countdown\, and more. He has been in four movies\, and he has had two top 20 comedy albums (including one that hit number 1 on iTunes comedy charts). He is a former columnist for Sports Illustrated and the NHL\, and has also written for Maxim and the New York Times\, among others. \nDiving into the obstacles we put in our own way\, Hofstetter’s newest show “Kill the Butterflies” is encouraging\, hilarious\, and the best of Hofstetter yet! \nReserved seating tickets begin at $35. An exclusive VIP ticket package is also available for $140 and includes the following: \n\nPrivate Group Meet-and-Greet with Steve Hofstetter\nPhoto Opportunity\nLimited Edition Shirt or Autographed Book\n8 Comedy Albums\nAudiobook\n\n \nReserved seating tickets and the VIP ticket package are both available online or by calling the box office at 509-529-6500. \nAges 14+
URL:https://phtww.org/show/steve-hofstetter-kill-the-butterflies-2/
LOCATION:Gesa Power House Theatre\, 111 North 6th Avenue\, Walla Walla\, WA\, 99362\, United States
CATEGORIES:2025 Lineup,public
ATTACH;FMTTYPE=image/jpeg:https://phtww.org/wp-content/uploads/2024/08/Steve-Hofstetter-Point-scaled-1.jpg
END:VEVENT
END:VCALENDAR