BEGIN:VCALENDAR
VERSION:2.0
PRODID:-//Gesa Power House Theatre - ECPv6.15.20//NONSGML v1.0//EN
CALSCALE:GREGORIAN
METHOD:PUBLISH
X-ORIGINAL-URL:https://phtww.org
X-WR-CALDESC:Events for Gesa Power House Theatre
REFRESH-INTERVAL;VALUE=DURATION:PT1H
X-Robots-Tag:noindex
X-PUBLISHED-TTL:PT1H
BEGIN:VTIMEZONE
TZID:America/Los_Angeles
BEGIN:DAYLIGHT
TZOFFSETFROM:-0800
TZOFFSETTO:-0700
TZNAME:PDT
DTSTART:20240310T100000
END:DAYLIGHT
BEGIN:STANDARD
TZOFFSETFROM:-0700
TZOFFSETTO:-0800
TZNAME:PST
DTSTART:20241103T090000
END:STANDARD
BEGIN:DAYLIGHT
TZOFFSETFROM:-0800
TZOFFSETTO:-0700
TZNAME:PDT
DTSTART:20250309T100000
END:DAYLIGHT
BEGIN:STANDARD
TZOFFSETFROM:-0700
TZOFFSETTO:-0800
TZNAME:PST
DTSTART:20251102T090000
END:STANDARD
BEGIN:DAYLIGHT
TZOFFSETFROM:-0800
TZOFFSETTO:-0700
TZNAME:PDT
DTSTART:20260308T100000
END:DAYLIGHT
BEGIN:STANDARD
TZOFFSETFROM:-0700
TZOFFSETTO:-0800
TZNAME:PST
DTSTART:20261101T090000
END:STANDARD
END:VTIMEZONE
BEGIN:VEVENT
DTSTART;TZID=America/Los_Angeles:20250518T140000
DTEND;TZID=America/Los_Angeles:20250518T160000
DTSTAMP:20260424T195001
CREATED:20250201T160032Z
LAST-MODIFIED:20250129T211808Z
UID:12542-1747576800-1747584000@phtww.org
SUMMARY:The M Factor
DESCRIPTION:Join Gesa Power House Theatre for a FREE community event on Sunday\, May 18\, 2025  for the documentary\, The M Factor: Shredding the Silence on Menopause\, as we celebrate Women’s Health Month. This film confronts the neglected menopause crisis\, challenging societal and medical shortcomings\, and advocating for a revolutionary approach to women’s health in America where she’s prepared for midlife. Produced by Women in the Room Productions and Take Flight Productions\, “The M Factor” aims to educate and empower women to seek proper healthcare support. \nMenopause is a silent epidemic that affects the health and well-being of millions of American women. In addition to experiencing traumatic physical symptoms\, women are struggling with the related stresses of billions of dollars in lost wages\, upended careers\, family disruptions\, and emotional chaos. \nThere will be a live Q&A panel following the film. \nReserved seating is strongly encouraged for this event to guarantee your seat! RSVP online\, or by calling the box office at 509-529-6500.
URL:https://phtww.org/show/the-m-factor/
LOCATION:Gesa Power House Theatre\, 111 North 6th Avenue\, Walla Walla\, WA\, 99362\, United States
CATEGORIES:2025 Lineup,Power House Movies,public
ATTACH;FMTTYPE=image/jpeg:https://phtww.org/wp-content/uploads/2025/01/M-Factor-Poster-A-20-x-30-rgb-scaled.jpg
END:VEVENT
END:VCALENDAR