BEGIN:VCALENDAR
VERSION:2.0
PRODID:-//Gesa Power House Theatre - ECPv6.15.20//NONSGML v1.0//EN
CALSCALE:GREGORIAN
METHOD:PUBLISH
X-ORIGINAL-URL:https://phtww.org
X-WR-CALDESC:Events for Gesa Power House Theatre
REFRESH-INTERVAL;VALUE=DURATION:PT1H
X-Robots-Tag:noindex
X-PUBLISHED-TTL:PT1H
BEGIN:VTIMEZONE
TZID:America/Los_Angeles
BEGIN:DAYLIGHT
TZOFFSETFROM:-0800
TZOFFSETTO:-0700
TZNAME:PDT
DTSTART:20240310T100000
END:DAYLIGHT
BEGIN:STANDARD
TZOFFSETFROM:-0700
TZOFFSETTO:-0800
TZNAME:PST
DTSTART:20241103T090000
END:STANDARD
BEGIN:DAYLIGHT
TZOFFSETFROM:-0800
TZOFFSETTO:-0700
TZNAME:PDT
DTSTART:20250309T100000
END:DAYLIGHT
BEGIN:STANDARD
TZOFFSETFROM:-0700
TZOFFSETTO:-0800
TZNAME:PST
DTSTART:20251102T090000
END:STANDARD
BEGIN:DAYLIGHT
TZOFFSETFROM:-0800
TZOFFSETTO:-0700
TZNAME:PDT
DTSTART:20260308T100000
END:DAYLIGHT
BEGIN:STANDARD
TZOFFSETFROM:-0700
TZOFFSETTO:-0800
TZNAME:PST
DTSTART:20261101T090000
END:STANDARD
END:VTIMEZONE
BEGIN:VEVENT
DTSTART;TZID=America/Los_Angeles:20250503T190000
DTEND;TZID=America/Los_Angeles:20250503T210000
DTSTAMP:20260424T183612
CREATED:20250201T160038Z
LAST-MODIFIED:20250508T194813Z
UID:12566-1746298800-1746306000@phtww.org
SUMMARY:Seattle Rock Orchestra plays David Bowie
DESCRIPTION:Gesa Power House Theatre presents Seattle Rock Orchestra performing David Bowie in concert on Saturday\, May 3\, 2025 at 7:00 p.m. \nJoin us for a special retrospective of David Bowie’s 50+ year career as a music legend! Seattle Rock Orchestra’s program begins with a reflection on Bowie’s early career from 1969-1974\, largely on his glamarific ‘Ziggy Stardust’ era\, featuring large swathes of his 1971 breakout album Hunky Dory\, and 1972’s masterpiece The Rise and Fall of Ziggy Stardust and the Spiders from Mars. After an intermission\, SRO switch gears into full-on party mode as they perform his most danceable songs—from the ‘plastic soul’ of 1975’s Young Americans\, through his reinvigorated reign as an 80’s pop icon. And\, as a meditation on his legacy\, the orchestra will take advantage of their full spectrum of tone colors\, occasionally punctuating the evening with plaintive orchestral moments taken from his experimental ‘Berlin Trilogy’ years. Featuring the songs ‘Life On Mars?\,’ ‘Starman\,’ ‘Let’s Dance\,’ ‘Under Pressure\,’ ‘Young Americans\,’ and many more\, this is a program you won’t want to miss! \nSeattle Rock Orchestra doesn’t hide behind a rock band … it is the rock band! SRO utilizes strings\, woodwinds\, brass\, percussion\, and rotating cast of exciting guest vocalists to deliver high energy tribute shows unlike any other. Each SRO show offers a dynamic mix of possibilities: a classy night out at the symphony with the infectious energy of a dance party; searing rock solos with intimate orchestral moments of staggering beauty; and fan favorite sing-alongs with lesser known ‘deep cuts’—combining to create a fun yet profoundly moving night out that honors the featured artist’s lasting legacy. \nReserved seating tickets ($50-$55) are available to the general public starting February 15th online or by calling the box office at 509-529-6500. \n\nWant to receive early notice and access to ticket sales? Join the +Power Club (highest priority) or sign up for our e-mail list!
URL:https://phtww.org/show/seattle-rock-orchestra-plays-david-bowie/
LOCATION:Gesa Power House Theatre\, 111 North 6th Avenue\, Walla Walla\, WA\, 99362\, United States
CATEGORIES:2025 Lineup,public
ATTACH;FMTTYPE=image/jpeg:https://phtww.org/wp-content/uploads/2025/01/SRO-2025.jpg
END:VEVENT
END:VCALENDAR