BEGIN:VCALENDAR
VERSION:2.0
PRODID:-//Gesa Power House Theatre - ECPv6.15.20//NONSGML v1.0//EN
CALSCALE:GREGORIAN
METHOD:PUBLISH
X-WR-CALNAME:Gesa Power House Theatre
X-ORIGINAL-URL:https://phtww.org
X-WR-CALDESC:Events for Gesa Power House Theatre
REFRESH-INTERVAL;VALUE=DURATION:PT1H
X-Robots-Tag:noindex
X-PUBLISHED-TTL:PT1H
BEGIN:VTIMEZONE
TZID:America/Los_Angeles
BEGIN:DAYLIGHT
TZOFFSETFROM:-0800
TZOFFSETTO:-0700
TZNAME:PDT
DTSTART:20240310T100000
END:DAYLIGHT
BEGIN:STANDARD
TZOFFSETFROM:-0700
TZOFFSETTO:-0800
TZNAME:PST
DTSTART:20241103T090000
END:STANDARD
BEGIN:DAYLIGHT
TZOFFSETFROM:-0800
TZOFFSETTO:-0700
TZNAME:PDT
DTSTART:20250309T100000
END:DAYLIGHT
BEGIN:STANDARD
TZOFFSETFROM:-0700
TZOFFSETTO:-0800
TZNAME:PST
DTSTART:20251102T090000
END:STANDARD
BEGIN:DAYLIGHT
TZOFFSETFROM:-0800
TZOFFSETTO:-0700
TZNAME:PDT
DTSTART:20260308T100000
END:DAYLIGHT
BEGIN:STANDARD
TZOFFSETFROM:-0700
TZOFFSETTO:-0800
TZNAME:PST
DTSTART:20261101T090000
END:STANDARD
END:VTIMEZONE
BEGIN:VEVENT
DTSTART;TZID=America/Los_Angeles:20250329T170000
DTEND;TZID=America/Los_Angeles:20250329T183000
DTSTAMP:20260424T171739
CREATED:20241212T181856Z
LAST-MODIFIED:20250306T233043Z
UID:12287-1743267600-1743273000@phtww.org
SUMMARY:Skerryvore - Whisky Tasting!
DESCRIPTION:THIS EVENT IS CURRENTLY SOLD OUT – If you would like to be added to a waitlist for available tickets\, please contact our box office at 509.529.6500 or email info@phtww.org \n  \nJoin us for an exclusive evening of whisky on Saturday\, March 29\, 2025\, at 5PM\,  celebrating the best of Scotland! Start with a Whisky Tasting Session hosted by the acclaimed Scottish band\, Skerryvore. Dive into Scotland’s whisky regions as each dram is perfectly paired with a live\, handpicked tune to enhance the tasting journey. \nWhat’s Included: \n\nTasting of four to five premium Scotch whiskies\, each accompanied by a Skerryvore performance designed to match the unique flavors.\nStories and insights from Skerryvore\, sharing personal experiences tied to each whisky region.\nAn interactive\, informal atmosphere where participation and fun are encouraged.\n\nReserve Your Spot\nPurchase tickets online or contact our box office at (509) 529-6500. With only 50 whisky tasting tickets available\, we recommend reserving early! \nPlease note: Concert tickets for the Skerryvore performance at 7:00 PM are sold separately.
URL:https://phtww.org/show/skerryvore-whisky-tasting/
LOCATION:Gesa Power House Theatre\, 111 North 6th Avenue\, Walla Walla\, WA\, 99362\, United States
CATEGORIES:2025 Lineup,public
ATTACH;FMTTYPE=image/png:https://phtww.org/wp-content/uploads/2024/10/WhiskyTasting.png
END:VEVENT
BEGIN:VEVENT
DTSTART;TZID=America/Los_Angeles:20250329T190000
DTEND;TZID=America/Los_Angeles:20250329T210000
DTSTAMP:20260424T171739
CREATED:20241101T150000Z
LAST-MODIFIED:20250305T163315Z
UID:12194-1743274800-1743282000@phtww.org
SUMMARY:Skerryvore
DESCRIPTION:On Saturday\, March 29th\, 2025\, Gesa Power House Theatre will present Skerryvore. \n\nFrom the remote island of Tiree to headlining festivals around the world\, Skerryvore has skyrocketed to become one of Scotland’s finest musical exports. And it’s easy to see why. Their eclectic fusion of folk\, rock\, and Americana – with thundering drums and bagpipes\, of course – is as rich as a single malt scotch. Since setting sail\, Skerryvore has performed in over 25 countries and scooped up Scotland’s “Live Act of the Year” award – three times. With their distinctive mix of fiddle\, accordions\, pipes and whistles\, alongside guitar and vocals\, underpinned by driving bass\, drums and keys\, Skerryvore fuses outstanding musicianship with pure joy.\n \nWinner of 2023 Best of the Bay Award for their Whisky Sessions show! \n\nReserved seating tickets\, priced from $40 to $50\, will be available starting November 15\, either online or by calling the box office at 509-529-6500. \nWant to receive early notice and access to ticket sales? Join the +Power Club (highest priority) or sign up for our email list (at the bottom of this page)!
URL:https://phtww.org/show/skerryvore/
LOCATION:Gesa Power House Theatre\, 111 North 6th Avenue\, Walla Walla\, WA\, 99362\, United States
CATEGORIES:2025 Lineup,public
ATTACH;FMTTYPE=image/jpeg:https://phtww.org/wp-content/uploads/2024/10/Skerryvore-square.jpg
END:VEVENT
END:VCALENDAR