BEGIN:VCALENDAR
VERSION:2.0
PRODID:-//Gesa Power House Theatre - ECPv6.15.20//NONSGML v1.0//EN
CALSCALE:GREGORIAN
METHOD:PUBLISH
X-WR-CALNAME:Gesa Power House Theatre
X-ORIGINAL-URL:https://phtww.org
X-WR-CALDESC:Events for Gesa Power House Theatre
REFRESH-INTERVAL;VALUE=DURATION:PT1H
X-Robots-Tag:noindex
X-PUBLISHED-TTL:PT1H
BEGIN:VTIMEZONE
TZID:America/Los_Angeles
BEGIN:DAYLIGHT
TZOFFSETFROM:-0800
TZOFFSETTO:-0700
TZNAME:PDT
DTSTART:20240310T100000
END:DAYLIGHT
BEGIN:STANDARD
TZOFFSETFROM:-0700
TZOFFSETTO:-0800
TZNAME:PST
DTSTART:20241103T090000
END:STANDARD
BEGIN:DAYLIGHT
TZOFFSETFROM:-0800
TZOFFSETTO:-0700
TZNAME:PDT
DTSTART:20250309T100000
END:DAYLIGHT
BEGIN:STANDARD
TZOFFSETFROM:-0700
TZOFFSETTO:-0800
TZNAME:PST
DTSTART:20251102T090000
END:STANDARD
BEGIN:DAYLIGHT
TZOFFSETFROM:-0800
TZOFFSETTO:-0700
TZNAME:PDT
DTSTART:20260308T100000
END:DAYLIGHT
BEGIN:STANDARD
TZOFFSETFROM:-0700
TZOFFSETTO:-0800
TZNAME:PST
DTSTART:20261101T090000
END:STANDARD
END:VTIMEZONE
BEGIN:VEVENT
DTSTART;TZID=America/Los_Angeles:20250323T140000
DTEND;TZID=America/Los_Angeles:20250323T160000
DTSTAMP:20260424T171738
CREATED:20250206T170715Z
LAST-MODIFIED:20250305T172143Z
UID:12623-1742738400-1742745600@phtww.org
SUMMARY:Hans Zimmer & Friends: Diamond in the Desert
DESCRIPTION:Gesa Power House Theatre proudly presents two Live Cinema screenings of Hans Zimmer and Friends: Diamond in the Desert on Sunday\, March 23 at 2 PM\, and Wednesday\, March 26 at 7 PM. A new installment of our Live Cinema series! \nHans Zimmer & Friends: Diamond in the Desert captures an extraordinary live performance of\nsome of Zimmer’s most revered compositions\, including music from Dune\, Gladiator\, Interstellar\, The Lion King\, and much more. Decades of cinematic masterpieces are brought to life by his band and a world-class orchestra at Dubai’s iconic Coca-Cola Arena and beyond. From the dunes of the Arabian Desert\, to the heights of the Burj Al Arab\, these performances deliver an intimate and unique experience of Zimmer’s most loved and renowned movie soundtracks. \nFeaturing conversations with Billie Eilish\, Sir Christopher Nolan\, Denis Villeneuve\, Finneas\, Jerry Bruckheimer\, Johnny Marr\, Pharrell Williams\, Tanya Lapointe\, Timothée Chalamet and Zendaya\, the film offers viewers a rare glimpse into Zimmer’s creative process\, exploring the drive to create and stories behind his closest collaborations.\n \nJerry Bruckheimer serves as Executive Producer. Directed by Emmy-winning and multi Grammy-nominated Paul Dugdale\, this film captures the magic and storytelling power of Zimmer’s music in an unforgettable cinematic experience. \nReserved seating tickets ($15 adults\, $10 students) are available online or by calling the box office at 509-529-6500.
URL:https://phtww.org/show/hans-zimmer-friends-diamond-in-the-desert-2/
LOCATION:Gesa Power House Theatre\, 111 North 6th Avenue\, Walla Walla\, WA\, 99362\, United States
CATEGORIES:2025 Lineup,Live Cinema
ATTACH;FMTTYPE=image/jpeg:https://phtww.org/wp-content/uploads/2025/02/HANS-ZIMMER-DIDT_QUAD-ARTWORK-ENGLISH-scaled.jpg
END:VEVENT
END:VCALENDAR