BEGIN:VCALENDAR
VERSION:2.0
PRODID:-//Gesa Power House Theatre - ECPv6.15.20//NONSGML v1.0//EN
CALSCALE:GREGORIAN
METHOD:PUBLISH
X-ORIGINAL-URL:https://phtww.org
X-WR-CALDESC:Events for Gesa Power House Theatre
REFRESH-INTERVAL;VALUE=DURATION:PT1H
X-Robots-Tag:noindex
X-PUBLISHED-TTL:PT1H
BEGIN:VTIMEZONE
TZID:America/Los_Angeles
BEGIN:DAYLIGHT
TZOFFSETFROM:-0800
TZOFFSETTO:-0700
TZNAME:PDT
DTSTART:20240310T100000
END:DAYLIGHT
BEGIN:STANDARD
TZOFFSETFROM:-0700
TZOFFSETTO:-0800
TZNAME:PST
DTSTART:20241103T090000
END:STANDARD
BEGIN:DAYLIGHT
TZOFFSETFROM:-0800
TZOFFSETTO:-0700
TZNAME:PDT
DTSTART:20250309T100000
END:DAYLIGHT
BEGIN:STANDARD
TZOFFSETFROM:-0700
TZOFFSETTO:-0800
TZNAME:PST
DTSTART:20251102T090000
END:STANDARD
BEGIN:DAYLIGHT
TZOFFSETFROM:-0800
TZOFFSETTO:-0700
TZNAME:PDT
DTSTART:20260308T100000
END:DAYLIGHT
BEGIN:STANDARD
TZOFFSETFROM:-0700
TZOFFSETTO:-0800
TZNAME:PST
DTSTART:20261101T090000
END:STANDARD
END:VTIMEZONE
BEGIN:VEVENT
DTSTART;TZID=America/Los_Angeles:20250314T190000
DTEND;TZID=America/Los_Angeles:20250314T210000
DTSTAMP:20260424T171901
CREATED:20241101T150056Z
LAST-MODIFIED:20250305T174527Z
UID:12214-1741978800-1741986000@phtww.org
SUMMARY:Take One Thing Off (film)
DESCRIPTION:On Friday\, March 14\, at 7 PM\, Gesa Power House Theatre will present Scout Durwood’s digital series\, Take One Thing Off. \nAn existential odyssey based on the original music from cabaret singer/bon vivant Scout Durwood’s debut studio album\, Take One Thing Off is a twenty-two episode digital series combining music videos and narrative sketch following Scout’s transition from performing in dive bars and supper clubs in NYC to the City of Angels where IRL is IR-relevant forcing her to step onto the biggest\, strangest stage she’s encountered so far: The Internet. \nSynopsis\nTake One Thing Off features eleven comedy vignettes paired with eleven original music videos from Scout Durwood’s debut studio album with Blue Elan Records. The series follows the life of chanteuse/bon vivant Scout Durwood\, who has spent most of her adult life singing in New York supper clubs and dive bars\, fostering a meaningful connection between audience and performer. Now living in Los Angeles\, where IRL seems IR-relevant\, she’s stepping onto the biggest\, strangest stage of all: The Internet. \nIn this twenty-two episode digital series\, Scout traverses the deserts of YouTube tutorials in her episodes Make-Up Tutorial\, DIY Cupcake Bra and Scout on Scout. She opines on the chemical reactions society has labeled “romance” in her ballads Here We Are and Falling in Love\, and delves into the complicated nature of female friendships in Frenemies. Take One Thing Off is as esoteric as it is slapstick; as high- concept as it is low-brow. You’ll laugh. She’ll cry. Grown men will drink wine from a baby pool. So be the strange you wish to see in the world\, and in the immortal words of Coco Chanel\, “after you dress but before you leave the house\, look in the mirror and take one thing off.”\n \nReserved tickets will be available for $15 ($10 for students) starting November 15th\, either online or via the Box Office at 509-529-6500. Want to receive early notice and access to ticket sales? Join the +Power Club (highest priority) or sign up for our email list (at the bottom of this page)!
URL:https://phtww.org/show/take-one-thing-off-film/
LOCATION:Gesa Power House Theatre\, 111 North 6th Avenue\, Walla Walla\, WA\, 99362\, United States
CATEGORIES:2025 Lineup,Power House Movies,public
ATTACH;FMTTYPE=image/jpeg:https://phtww.org/wp-content/uploads/2024/10/TOTO_poster-e1730262755582.jpg
END:VEVENT
END:VCALENDAR