BEGIN:VCALENDAR
VERSION:2.0
PRODID:-//Gesa Power House Theatre - ECPv6.15.20//NONSGML v1.0//EN
CALSCALE:GREGORIAN
METHOD:PUBLISH
X-ORIGINAL-URL:https://phtww.org
X-WR-CALDESC:Events for Gesa Power House Theatre
REFRESH-INTERVAL;VALUE=DURATION:PT1H
X-Robots-Tag:noindex
X-PUBLISHED-TTL:PT1H
BEGIN:VTIMEZONE
TZID:America/Los_Angeles
BEGIN:DAYLIGHT
TZOFFSETFROM:-0800
TZOFFSETTO:-0700
TZNAME:PDT
DTSTART:20240310T100000
END:DAYLIGHT
BEGIN:STANDARD
TZOFFSETFROM:-0700
TZOFFSETTO:-0800
TZNAME:PST
DTSTART:20241103T090000
END:STANDARD
BEGIN:DAYLIGHT
TZOFFSETFROM:-0800
TZOFFSETTO:-0700
TZNAME:PDT
DTSTART:20250309T100000
END:DAYLIGHT
BEGIN:STANDARD
TZOFFSETFROM:-0700
TZOFFSETTO:-0800
TZNAME:PST
DTSTART:20251102T090000
END:STANDARD
BEGIN:DAYLIGHT
TZOFFSETFROM:-0800
TZOFFSETTO:-0700
TZNAME:PDT
DTSTART:20260308T100000
END:DAYLIGHT
BEGIN:STANDARD
TZOFFSETFROM:-0700
TZOFFSETTO:-0800
TZNAME:PST
DTSTART:20261101T090000
END:STANDARD
END:VTIMEZONE
BEGIN:VEVENT
DTSTART;TZID=America/Los_Angeles:20250312T190000
DTEND;TZID=America/Los_Angeles:20250312T210000
DTSTAMP:20260424T171901
CREATED:20241107T160052Z
LAST-MODIFIED:20250304T195716Z
UID:12169-1741806000-1741813200@phtww.org
SUMMARY:Jess Plus None
DESCRIPTION:On March 12\, 2025\, at 7 PM\, Gesa Power House Theatre presents the comedy film Jess Plus None. \n \nJess (Abby Miller\, Justified)\, a reluctant maid-of-honor attends her best friend’s off-the-grid wedding in the woods\, where she’s forced to confront her ex-girlfriend\, her more successful college friends\, and every horrible choice she’s made in her life so far\, until a chance meeting with an elusive park ranger (Matt Walsh\, Veep) shows Jess the real force of nature at this wedding…might be her. \n“Screwball comedies feel like something from a bygone era\, but Mandy Fabian’s directorial debut JESS PLUS NONE manages its tones masterfully while giving us a flawed but relatable protagonist who’s simply doing the best she can. If you’re not laughing\, you’re cringing\, and that makes it a screwball comedy through a contemporary lens.” – SQF \nReserved seating tickets ($15\, $10 for students) will be available starting November 15th\, online or by calling the box office at 509-529-6500. \nWant to receive early notice and access to ticket sales? Join the +Power Club (highest priority) or sign up for our email list (at the bottom of this page)!
URL:https://phtww.org/show/jess-plus-none/
LOCATION:Gesa Power House Theatre\, 111 North 6th Avenue\, Walla Walla\, WA\, 99362\, United States
CATEGORIES:2025 Lineup,Power House Movies,public
ATTACH;FMTTYPE=image/jpeg:https://phtww.org/wp-content/uploads/2024/10/Jess-Plus-None-website-square.jpg
END:VEVENT
END:VCALENDAR