BEGIN:VCALENDAR
VERSION:2.0
PRODID:-//Gesa Power House Theatre - ECPv6.15.20//NONSGML v1.0//EN
CALSCALE:GREGORIAN
METHOD:PUBLISH
X-WR-CALNAME:Gesa Power House Theatre
X-ORIGINAL-URL:https://phtww.org
X-WR-CALDESC:Events for Gesa Power House Theatre
REFRESH-INTERVAL;VALUE=DURATION:PT1H
X-Robots-Tag:noindex
X-PUBLISHED-TTL:PT1H
BEGIN:VTIMEZONE
TZID:America/Los_Angeles
BEGIN:DAYLIGHT
TZOFFSETFROM:-0800
TZOFFSETTO:-0700
TZNAME:PDT
DTSTART:20240310T100000
END:DAYLIGHT
BEGIN:STANDARD
TZOFFSETFROM:-0700
TZOFFSETTO:-0800
TZNAME:PST
DTSTART:20241103T090000
END:STANDARD
BEGIN:DAYLIGHT
TZOFFSETFROM:-0800
TZOFFSETTO:-0700
TZNAME:PDT
DTSTART:20250309T100000
END:DAYLIGHT
BEGIN:STANDARD
TZOFFSETFROM:-0700
TZOFFSETTO:-0800
TZNAME:PST
DTSTART:20251102T090000
END:STANDARD
BEGIN:DAYLIGHT
TZOFFSETFROM:-0800
TZOFFSETTO:-0700
TZNAME:PDT
DTSTART:20260308T100000
END:DAYLIGHT
BEGIN:STANDARD
TZOFFSETFROM:-0700
TZOFFSETTO:-0800
TZNAME:PST
DTSTART:20261101T090000
END:STANDARD
END:VTIMEZONE
BEGIN:VEVENT
DTSTART;TZID=America/Los_Angeles:20250302T140000
DTEND;TZID=America/Los_Angeles:20250302T160000
DTSTAMP:20260424T172158
CREATED:20241101T150015Z
LAST-MODIFIED:20241030T220229Z
UID:12244-1740924000-1740931200@phtww.org
SUMMARY:BIG BANG BOOM!
DESCRIPTION:Gesa Power House Theatre proudly presents BIG BANG BOOM! on Sunday\, March 2\, 2025\, at 2 PM. \nBig Bang Boom is a 3-piece Kindie Music Band from Greensboro\, North Carolina that began in the minds and aspirations of talented artists and long-time musicians: Chuck Folds\, Steve Willard\, and Eddie Walker.  \nAfter 20 years of touring the grown-up stages\, Chuck\, Steve\, and Eddie decided to expand their horizons and play for kids whose parents (like themselves) want MORE from children’s music. In 2007\, this dynamic dad trio began to create parent-friendly children’s music! They write songs with a pop sensibility by cleverly mixing alternative\, hip-hop\, rock\, pop\, country\, and other genres to create music that both adults and children enjoy. The themes of their songs focus on building character traits and education through relatable stories that engage people of all ages.  \nTheir song titled “Monster Under the Bed” won grand prize in the 2011 John Lennon Songwriting Contest\, and they wrote and performed the music for the WFMY’s Emmy Award Winning Community Service program\, Read 2 Succeed!  \nOn Stage is where Big Bang Boom shines brightest! You may have seen their high energy\, interactive performances at countless libraries (Yes\, they are LOUD in the library!)\, schools\, performing arts centers\, museums\, festivals\, and private and community events all over the USA.  \nKeep Rockin’\, Kids! \n \nReserved tickets will be available for $12 ($8 for children under 12) on November 15th\, either online or via the Box Office at 509-529-6500. Want to receive early notice and access to ticket sales? Join the +Power Club (highest priority) or sign up for our email list (at the bottom of this page)!
URL:https://phtww.org/show/big-bang-boom/
LOCATION:Gesa Power House Theatre\, 111 North 6th Avenue\, Walla Walla\, WA\, 99362\, United States
CATEGORIES:2025 Lineup,Little Watts,public
ATTACH;FMTTYPE=image/jpeg:https://phtww.org/wp-content/uploads/2024/10/bigbangboom_frame_HRes-scaled.jpg
END:VEVENT
END:VCALENDAR