BEGIN:VCALENDAR
VERSION:2.0
PRODID:-//Gesa Power House Theatre - ECPv6.15.20//NONSGML v1.0//EN
CALSCALE:GREGORIAN
METHOD:PUBLISH
X-ORIGINAL-URL:https://phtww.org
X-WR-CALDESC:Events for Gesa Power House Theatre
REFRESH-INTERVAL;VALUE=DURATION:PT1H
X-Robots-Tag:noindex
X-PUBLISHED-TTL:PT1H
BEGIN:VTIMEZONE
TZID:America/Los_Angeles
BEGIN:DAYLIGHT
TZOFFSETFROM:-0800
TZOFFSETTO:-0700
TZNAME:PDT
DTSTART:20240310T100000
END:DAYLIGHT
BEGIN:STANDARD
TZOFFSETFROM:-0700
TZOFFSETTO:-0800
TZNAME:PST
DTSTART:20241103T090000
END:STANDARD
BEGIN:DAYLIGHT
TZOFFSETFROM:-0800
TZOFFSETTO:-0700
TZNAME:PDT
DTSTART:20250309T100000
END:DAYLIGHT
BEGIN:STANDARD
TZOFFSETFROM:-0700
TZOFFSETTO:-0800
TZNAME:PST
DTSTART:20251102T090000
END:STANDARD
BEGIN:DAYLIGHT
TZOFFSETFROM:-0800
TZOFFSETTO:-0700
TZNAME:PDT
DTSTART:20260308T100000
END:DAYLIGHT
BEGIN:STANDARD
TZOFFSETFROM:-0700
TZOFFSETTO:-0800
TZNAME:PST
DTSTART:20261101T090000
END:STANDARD
END:VTIMEZONE
BEGIN:VEVENT
DTSTART;TZID=America/Los_Angeles:20250226T190000
DTEND;TZID=America/Los_Angeles:20250226T210000
DTSTAMP:20260424T160421
CREATED:20241101T150030Z
LAST-MODIFIED:20250203T163100Z
UID:12245-1740596400-1740603600@phtww.org
SUMMARY:My Own Normal
DESCRIPTION:Gesa Power House Theatre proudly presents My Own Normal on Wednesday\, February 26\, 2025\, at 7PM. \n\n\n\n\nFilmmaker Alexander Freeman who was diagnosed with cerebral palsy at the age of two\, was raised by his loving and supportive parents but the one thing he has always wanted was to be in a loving relationship with a woman and to have a family of his own. When Alexander meets his life partner Orina by chance\, at a film screening\, his life changes forever for the better\, especially when his daughter Maya is born. \n As Alexander and Orina raise Maya\, have a commitment ceremony\, start their lives together\, and struggle with life’s challenges\, Alexander’s parents learn to accept that Alexander can live a normal life independently and can be a great father despite their original views on the pregnancy. \nReserved seating tickets starting at $15 ($10 for students) will be available online or by calling the box office at 509-529-6500\, starting on November 15th. \nWant to receive early notice and access to ticket sales? Join the +Power Club (highest priority) or sign up for our email list (at the bottom of this page)!
URL:https://phtww.org/show/my-own-normal/
LOCATION:Gesa Power House Theatre\, 111 North 6th Avenue\, Walla Walla\, WA\, 99362\, United States
CATEGORIES:2025 Lineup,public
ATTACH;FMTTYPE=image/jpeg:https://phtww.org/wp-content/uploads/2024/10/IMG_7799-e1730275124924.jpeg
END:VEVENT
END:VCALENDAR