BEGIN:VCALENDAR
VERSION:2.0
PRODID:-//Gesa Power House Theatre - ECPv6.15.20//NONSGML v1.0//EN
CALSCALE:GREGORIAN
METHOD:PUBLISH
X-WR-CALNAME:Gesa Power House Theatre
X-ORIGINAL-URL:https://phtww.org
X-WR-CALDESC:Events for Gesa Power House Theatre
REFRESH-INTERVAL;VALUE=DURATION:PT1H
X-Robots-Tag:noindex
X-PUBLISHED-TTL:PT1H
BEGIN:VTIMEZONE
TZID:America/Los_Angeles
BEGIN:DAYLIGHT
TZOFFSETFROM:-0800
TZOFFSETTO:-0700
TZNAME:PDT
DTSTART:20240310T100000
END:DAYLIGHT
BEGIN:STANDARD
TZOFFSETFROM:-0700
TZOFFSETTO:-0800
TZNAME:PST
DTSTART:20241103T090000
END:STANDARD
BEGIN:DAYLIGHT
TZOFFSETFROM:-0800
TZOFFSETTO:-0700
TZNAME:PDT
DTSTART:20250309T100000
END:DAYLIGHT
BEGIN:STANDARD
TZOFFSETFROM:-0700
TZOFFSETTO:-0800
TZNAME:PST
DTSTART:20251102T090000
END:STANDARD
BEGIN:DAYLIGHT
TZOFFSETFROM:-0800
TZOFFSETTO:-0700
TZNAME:PDT
DTSTART:20260308T100000
END:DAYLIGHT
BEGIN:STANDARD
TZOFFSETFROM:-0700
TZOFFSETTO:-0800
TZNAME:PST
DTSTART:20261101T090000
END:STANDARD
END:VTIMEZONE
BEGIN:VEVENT
DTSTART;TZID=America/Los_Angeles:20250221T190000
DTEND;TZID=America/Los_Angeles:20250221T210000
DTSTAMP:20260424T160218
CREATED:20241101T150030Z
LAST-MODIFIED:20241115T231038Z
UID:12254-1740164400-1740171600@phtww.org
SUMMARY:Jackie Robinson: A Game Apart
DESCRIPTION:Gesa Power House Theatre proudly presents Mike Wiley’s historical play Jackie Robinson: A Game Apart on Friday\, February 21\, 2025 \, at 7 p.m. This programming is brought to you in part by Creative West and the National Endowment of the Arts. \nA Game Apart provides a glimpse of Jackie Robinson’s life during a bygone era of separate and unequal locker rooms\, of whites-only hotels\, and of restaurants with only a back door for colored athletes to enter. Witness the hopeless humiliation of a star player who was showered with adulation on the field and became a second-class citizen when he walked off the diamond. Meet Jackie’s compatriots fighting the same battles between the end zones\, inside the ring\, and around the track. A Game Apart is a powerful lesson of courage through dedication\, perseverance\, and leadership. \nAbout Mike Wiley: Acclaimed actor and playwright Mike Wiley has spent the last decade fulfilling his mission to bring educational theatre to young audiences and communities across the country. In the early days of his career\, Wiley found few theatrical resources to shine a light on key events and figures in African-American history. To bring these stories to life\, he started his own production company. Through his performances\, Wiley has introduced countless students and communities to the legacies of Emmett Till\, Henry “Box” Brown and more. \nReserved tickets will be available starting at $25 ($20 for students) on November 15th\, either online or via the Box Office at 509-529-6500. Want to receive early notice and access to ticket sales? Join the +Power Club (highest priority) or sign up for our email list (at the bottom of this page)! \n 
URL:https://phtww.org/show/jackie-robinson-a-game-apart/
LOCATION:Gesa Power House Theatre\, 111 North 6th Avenue\, Walla Walla\, WA\, 99362\, United States
CATEGORIES:2025 Lineup,public
ATTACH;FMTTYPE=image/jpeg:https://phtww.org/wp-content/uploads/2024/10/Performance-photo-3-JACKIE-ROBINSON.jpg
END:VEVENT
END:VCALENDAR