BEGIN:VCALENDAR
VERSION:2.0
PRODID:-//Gesa Power House Theatre - ECPv6.15.20//NONSGML v1.0//EN
CALSCALE:GREGORIAN
METHOD:PUBLISH
X-WR-CALNAME:Gesa Power House Theatre
X-ORIGINAL-URL:https://phtww.org
X-WR-CALDESC:Events for Gesa Power House Theatre
REFRESH-INTERVAL;VALUE=DURATION:PT1H
X-Robots-Tag:noindex
X-PUBLISHED-TTL:PT1H
BEGIN:VTIMEZONE
TZID:America/Los_Angeles
BEGIN:DAYLIGHT
TZOFFSETFROM:-0800
TZOFFSETTO:-0700
TZNAME:PDT
DTSTART:20240310T100000
END:DAYLIGHT
BEGIN:STANDARD
TZOFFSETFROM:-0700
TZOFFSETTO:-0800
TZNAME:PST
DTSTART:20241103T090000
END:STANDARD
BEGIN:DAYLIGHT
TZOFFSETFROM:-0800
TZOFFSETTO:-0700
TZNAME:PDT
DTSTART:20250309T100000
END:DAYLIGHT
BEGIN:STANDARD
TZOFFSETFROM:-0700
TZOFFSETTO:-0800
TZNAME:PST
DTSTART:20251102T090000
END:STANDARD
BEGIN:DAYLIGHT
TZOFFSETFROM:-0800
TZOFFSETTO:-0700
TZNAME:PDT
DTSTART:20260308T100000
END:DAYLIGHT
BEGIN:STANDARD
TZOFFSETFROM:-0700
TZOFFSETTO:-0800
TZNAME:PST
DTSTART:20261101T090000
END:STANDARD
END:VTIMEZONE
BEGIN:VEVENT
DTSTART;TZID=America/Los_Angeles:20250212T190000
DTEND;TZID=America/Los_Angeles:20250212T210000
DTSTAMP:20260424T160306
CREATED:20241101T150047Z
LAST-MODIFIED:20250124T143542Z
UID:12164-1739386800-1739394000@phtww.org
SUMMARY:ULTIMATE CITIZENS
DESCRIPTION:On February 12\, at 7 PM\, Gesa Power House Theatre proudly presents the film ULTIMATE CITIZENS. \nULTIMATE CITIZENS is the story of Jamshid Khajavi\, an extraordinary 65-year-old Iranian American public school counselor who uses the sport of Ultimate Frisbee to help children heal. In an America where many families are quietly\, barely getting by\, Mr. Jamshid coaches an underdog team of kids on their way to compete in the world’s largest youth tournament. ULTIMATE CITIZENS is a celebration of resilience and belonging\, and the third independent feature documentary from award-winning filmmaker Francine Strickwerda. \n \nReserved seating tickets ($15\, $10 for students) will be available on November 15th\, online or by calling the box office at 509-529-6500. \nWant to receive early notice and access to ticket sales? Join the +Power Club (highest priority) or sign up for our e-mail list (at the bottom of this page)!
URL:https://phtww.org/show/ultimate-citizens/
LOCATION:Gesa Power House Theatre\, 111 North 6th Avenue\, Walla Walla\, WA\, 99362\, United States
CATEGORIES:2025 Lineup,Power House Movies,public
ATTACH;FMTTYPE=image/jpeg:https://phtww.org/wp-content/uploads/2024/10/Ultimate-Citizens-website-square.jpg
END:VEVENT
END:VCALENDAR