BEGIN:VCALENDAR
VERSION:2.0
PRODID:-//Gesa Power House Theatre - ECPv6.15.20//NONSGML v1.0//EN
CALSCALE:GREGORIAN
METHOD:PUBLISH
X-WR-CALNAME:Gesa Power House Theatre
X-ORIGINAL-URL:https://phtww.org
X-WR-CALDESC:Events for Gesa Power House Theatre
REFRESH-INTERVAL;VALUE=DURATION:PT1H
X-Robots-Tag:noindex
X-PUBLISHED-TTL:PT1H
BEGIN:VTIMEZONE
TZID:America/Los_Angeles
BEGIN:DAYLIGHT
TZOFFSETFROM:-0800
TZOFFSETTO:-0700
TZNAME:PDT
DTSTART:20240310T100000
END:DAYLIGHT
BEGIN:STANDARD
TZOFFSETFROM:-0700
TZOFFSETTO:-0800
TZNAME:PST
DTSTART:20241103T090000
END:STANDARD
BEGIN:DAYLIGHT
TZOFFSETFROM:-0800
TZOFFSETTO:-0700
TZNAME:PDT
DTSTART:20250309T100000
END:DAYLIGHT
BEGIN:STANDARD
TZOFFSETFROM:-0700
TZOFFSETTO:-0800
TZNAME:PST
DTSTART:20251102T090000
END:STANDARD
BEGIN:DAYLIGHT
TZOFFSETFROM:-0800
TZOFFSETTO:-0700
TZNAME:PDT
DTSTART:20260308T100000
END:DAYLIGHT
BEGIN:STANDARD
TZOFFSETFROM:-0700
TZOFFSETTO:-0800
TZNAME:PST
DTSTART:20261101T090000
END:STANDARD
END:VTIMEZONE
BEGIN:VEVENT
DTSTART;TZID=America/Los_Angeles:20250205T190000
DTEND;TZID=America/Los_Angeles:20250205T210000
DTSTAMP:20260424T160217
CREATED:20241101T150003Z
LAST-MODIFIED:20241031T210109Z
UID:12219-1738782000-1738789200@phtww.org
SUMMARY:International Guitar Night XXV
DESCRIPTION:Gesa Power House Theatre welcomes the 25th Anniversary American Tour of International Guitar Night to the stage on Wednesday\, February 5\, 2025 at 7 p.m. This show will feature Germany’s Lulo Reinhardt\, Britain’s Alexandra Whittingham\, Democratic Republic of The Congo’s Niwel Tsumbu\, and Germany’s Sönke Meinen. Additionally\, this programming is supported in part by the Creative West and the National Endowment for the Arts. \nInternational Guitar Night is the world’s premier touring guitar festival\, each show bringing together the most interesting and innovative acoustic guitarists to exchange musical ideas in a public concert setting. For each tour\, IGN founder Brian Gore brings together a new cast of guitar luminaries for special evenings of solos\, duets\, and quartets that highlight the dexterity and diversity within the world of acoustic guitar. Brian founded IGN in 1995 as a forum for the world’s finest guitarists/composers to play their latest original songs and share musical ideas and talent with their peers. \n\n\nLulo Reinhardt (Guitar Virtuoso with Latin and Gypsy Swing): hailing from the renowned Reinhardt family\, Lulo is a guitar virtuoso celebrated for his Latin Swing style deeply rooted in Sinti tradition. From his early years influenced by his father’s eclectic record collection to leading bands like I Gitanos and his own Latin Swing Project\, Lulo’s journey has been marked by musical exploration and cultural outreach. With numerous albums\, international collaborations\, and ventures like documenting Sinti and Roma migration\, Lulo continues to innovate. \n\n\nAlexandra Whittingham (British Classical Guitarist): a prodigious classical guitarist and composer\, Alexandra emerged from Chetham’s School of Music and the Royal Academy of Music with accolades and a distinctive style. Her debut album “My European Journey” not only topped charts but also spotlighted lesser-known composers of the nineteenth century\, blending passion for music history with virtuosity. With a massive online following and performances worldwide\, including prestigious venues and orchestral collaborations\, Alexandra’s star continues to rise. \n\n\nNiwel Tsumbu (Guitar Virtuoso and Singer): a Congolese-born guitarist based in Ireland\, Niwel defies musical boundaries with a fusion of jazz\, classical\, rock\, and African rhythms. From his early exposure to diverse musical traditions to collaborations with global icons like Rhiannon Giddens\, and Grammy-winning performances\, Niwel’s virtuosic guitar work and emotive compositions captivate audiences worldwide. His fluidity across genres and instruments solidify his place as a musical trailblazer\, promising unforgettable performances in this upcoming U.S. tour with the International Guitar Night. \n\nSönke Meinen (Guitarist\, Composer and Storyteller): an acclaimed guitarist\, Sönke transcends conventions with his one-man guitar performances\, blending folk\, classical\, pop\, and jazz influences into a captivating musical journey. From fiery guitar displays to soul-stirring ballads\, his performances resonate with audiences worldwide\, punctuated by humorous anecdotes and a relaxed stage presence. Renowned for his versatility and world-class skill\, Sönke promises an exceptional concert experience that transcends musical boundaries and delights audiences of all backgrounds. \n\n\n\nReserved seating tickets starting at $45 can be purchased online or by calling the box office at 509-529-6500. Ticket sales open on November 15th. \nWant to receive early notice and access to ticket sales? Join the +Power Club (highest priority) or sign up for our email list (at the bottom of this page)!
URL:https://phtww.org/show/international-guitar-night-xxv/
LOCATION:Gesa Power House Theatre\, 111 North 6th Avenue\, Walla Walla\, WA\, 99362\, United States
CATEGORIES:2025 Lineup
ATTACH;FMTTYPE=image/png:https://phtww.org/wp-content/uploads/2024/10/IGN2025.png
END:VEVENT
END:VCALENDAR