BEGIN:VCALENDAR
VERSION:2.0
PRODID:-//Gesa Power House Theatre - ECPv6.15.20//NONSGML v1.0//EN
CALSCALE:GREGORIAN
METHOD:PUBLISH
X-WR-CALNAME:Gesa Power House Theatre
X-ORIGINAL-URL:https://phtww.org
X-WR-CALDESC:Events for Gesa Power House Theatre
REFRESH-INTERVAL;VALUE=DURATION:PT1H
X-Robots-Tag:noindex
X-PUBLISHED-TTL:PT1H
BEGIN:VTIMEZONE
TZID:America/Los_Angeles
BEGIN:DAYLIGHT
TZOFFSETFROM:-0800
TZOFFSETTO:-0700
TZNAME:PDT
DTSTART:20240310T100000
END:DAYLIGHT
BEGIN:STANDARD
TZOFFSETFROM:-0700
TZOFFSETTO:-0800
TZNAME:PST
DTSTART:20241103T090000
END:STANDARD
BEGIN:DAYLIGHT
TZOFFSETFROM:-0800
TZOFFSETTO:-0700
TZNAME:PDT
DTSTART:20250309T100000
END:DAYLIGHT
BEGIN:STANDARD
TZOFFSETFROM:-0700
TZOFFSETTO:-0800
TZNAME:PST
DTSTART:20251102T090000
END:STANDARD
BEGIN:DAYLIGHT
TZOFFSETFROM:-0800
TZOFFSETTO:-0700
TZNAME:PDT
DTSTART:20260308T100000
END:DAYLIGHT
BEGIN:STANDARD
TZOFFSETFROM:-0700
TZOFFSETTO:-0800
TZNAME:PST
DTSTART:20261101T090000
END:STANDARD
END:VTIMEZONE
BEGIN:VEVENT
DTSTART;TZID=America/Los_Angeles:20250202T190000
DTEND;TZID=America/Los_Angeles:20250202T210000
DTSTAMP:20260424T160218
CREATED:20250102T173507Z
LAST-MODIFIED:20250102T173507Z
UID:12436-1738522800-1738530000@phtww.org
SUMMARY:The Thinking Game (Film)
DESCRIPTION:On February 2nd\, 2025\, at 7 PM\, Gesa Power House Theatre will present the documentary The Thinking Game. \nThe Thinking Game takes you on a fascinating journey into the heart of DeepMind\, one of the world’s leading AI labs\, as it strives to unravel the mysteries of artificial general intelligence (AGI). \nInside DeepMind’s London headquarters\, founder Demis Hassabis and his team are relentlessly pursuing the creation of AI that matches or surpasses human abilities on a wide range of tasks. Filmed over five years\, the documentary puts viewers in the room for the pivotal moments of this quest\, including the groundbreaking achievement of AlphaFold\, a program that solved a 50-year grand challenge in biology. \nThe Thinking Game captures the exhilaration of historic breakthroughs like AlphaFold\, the crushing weight of disappointment during setbacks\, and the unwavering pursuit of knowledge that defines Demis’ commitment to scientific innovation. This film invites viewers to witness one of the most important scientific adventures of our time\, exploring the potential of AGI to reshape\nour world. \nReserved seating tickets (Adults $15\, Students $10) are available for purchase online\, or by calling the box office at 509-529-6500. Additionally\, members of the IRL Movie Club can use the promo code IRLCLUB at checkout to purchase a ticket for only $5! Not a member? You can still use the code\, and you’ll automatically join the IRL Movie Club for free\, and be registered to the email list to hear about future events! Learn more about the IRL Movie Club here!
URL:https://phtww.org/show/the-thinking-game-film/
LOCATION:WA
CATEGORIES:2025 Lineup,Power House Movies,public
ATTACH;FMTTYPE=image/jpeg:https://phtww.org/wp-content/uploads/2024/12/Thinking-Game-Website-Square.jpg
END:VEVENT
END:VCALENDAR