BEGIN:VCALENDAR
VERSION:2.0
PRODID:-//Gesa Power House Theatre - ECPv6.15.20//NONSGML v1.0//EN
CALSCALE:GREGORIAN
METHOD:PUBLISH
X-ORIGINAL-URL:https://phtww.org
X-WR-CALDESC:Events for Gesa Power House Theatre
REFRESH-INTERVAL;VALUE=DURATION:PT1H
X-Robots-Tag:noindex
X-PUBLISHED-TTL:PT1H
BEGIN:VTIMEZONE
TZID:America/Los_Angeles
BEGIN:DAYLIGHT
TZOFFSETFROM:-0800
TZOFFSETTO:-0700
TZNAME:PDT
DTSTART:20240310T100000
END:DAYLIGHT
BEGIN:STANDARD
TZOFFSETFROM:-0700
TZOFFSETTO:-0800
TZNAME:PST
DTSTART:20241103T090000
END:STANDARD
BEGIN:DAYLIGHT
TZOFFSETFROM:-0800
TZOFFSETTO:-0700
TZNAME:PDT
DTSTART:20250309T100000
END:DAYLIGHT
BEGIN:STANDARD
TZOFFSETFROM:-0700
TZOFFSETTO:-0800
TZNAME:PST
DTSTART:20251102T090000
END:STANDARD
BEGIN:DAYLIGHT
TZOFFSETFROM:-0800
TZOFFSETTO:-0700
TZNAME:PDT
DTSTART:20260308T100000
END:DAYLIGHT
BEGIN:STANDARD
TZOFFSETFROM:-0700
TZOFFSETTO:-0800
TZNAME:PST
DTSTART:20261101T090000
END:STANDARD
END:VTIMEZONE
BEGIN:VEVENT
DTSTART;TZID=America/Los_Angeles:20250122T190000
DTEND;TZID=America/Los_Angeles:20250122T210000
DTSTAMP:20260424T144605
CREATED:20241101T150005Z
LAST-MODIFIED:20250102T213443Z
UID:12235-1737572400-1737579600@phtww.org
SUMMARY:Honoring Women Peacebuilders in Africa and Beyond
DESCRIPTION:On Wednesday\, January 22\, at 7 PM\, Gesa Power House Theatre proudly features Honoring Women Peacebuilders in Africa and Beyond. This event is sponsored by The American Association of University Women (AAUW)-Walla Walla and Humanities Washington. \nRichard Middleton-Kaplan (he/him) is the director of Academic Support Services at Whitman College. In 2011\, Richard spent a sabbatical at the Centre for Applied Human Rights at University of York\, helping to develop a course on literature and human rights. His publications include “Using Literature to Teach Peace” in Peace Research: The Canadian Journal of Peace and Conflict Studies. \nWhat makes women’s peacebuilding movements so effective—often more effective than larger scale national and international initiatives? Why is the work of women peacebuilders less well-known and celebrated than that of their male counterparts? Is the collective nature of women’s peacemaking work a reason it’s both effective yet also underappreciated?   \nIn this talk\, meet peacebuilders beyond the usual names like Mother Theresa and Jane Addams\, and gain an appreciation for the collective nature of women’s peacebuilding activities. Glimpse the more peaceful horizon that could dawn if we inspired and supported women’s peacebuilding collectives.  \nGesa Power House Theatre is committed to ensuring that the arts are for everyone. Join us for this free community event\, bringing impactful stories to the Walla Walla Valley. Donations are welcome! \n 
URL:https://phtww.org/show/honoring-women-peacebuilders-in-africa-and-beyond/
LOCATION:Gesa Power House Theatre\, 111 North 6th Avenue\, Walla Walla\, WA\, 99362\, United States
CATEGORIES:2025 Lineup,public
ATTACH;FMTTYPE=image/jpeg:https://phtww.org/wp-content/uploads/2024/10/HW_SpeakersBureau_HonoringWomen_1080x1080.jpg
END:VEVENT
END:VCALENDAR