BEGIN:VCALENDAR
VERSION:2.0
PRODID:-//Gesa Power House Theatre - ECPv6.15.20//NONSGML v1.0//EN
CALSCALE:GREGORIAN
METHOD:PUBLISH
X-WR-CALNAME:Gesa Power House Theatre
X-ORIGINAL-URL:https://phtww.org
X-WR-CALDESC:Events for Gesa Power House Theatre
REFRESH-INTERVAL;VALUE=DURATION:PT1H
X-Robots-Tag:noindex
X-PUBLISHED-TTL:PT1H
BEGIN:VTIMEZONE
TZID:America/Los_Angeles
BEGIN:DAYLIGHT
TZOFFSETFROM:-0800
TZOFFSETTO:-0700
TZNAME:PDT
DTSTART:20240310T100000
END:DAYLIGHT
BEGIN:STANDARD
TZOFFSETFROM:-0700
TZOFFSETTO:-0800
TZNAME:PST
DTSTART:20241103T090000
END:STANDARD
BEGIN:DAYLIGHT
TZOFFSETFROM:-0800
TZOFFSETTO:-0700
TZNAME:PDT
DTSTART:20250309T100000
END:DAYLIGHT
BEGIN:STANDARD
TZOFFSETFROM:-0700
TZOFFSETTO:-0800
TZNAME:PST
DTSTART:20251102T090000
END:STANDARD
BEGIN:DAYLIGHT
TZOFFSETFROM:-0800
TZOFFSETTO:-0700
TZNAME:PDT
DTSTART:20260308T100000
END:DAYLIGHT
BEGIN:STANDARD
TZOFFSETFROM:-0700
TZOFFSETTO:-0800
TZNAME:PST
DTSTART:20261101T090000
END:STANDARD
END:VTIMEZONE
BEGIN:VEVENT
DTSTART;TZID=America/Los_Angeles:20250711T180000
DTEND;TZID=America/Los_Angeles:20250713T210000
DTSTAMP:20260424T191418
CREATED:20250501T124523Z
LAST-MODIFIED:20250711T170524Z
UID:12865-1752256800-1752440400@phtww.org
SUMMARY:Walla Walla Movie Crush
DESCRIPTION:The 9th Annual Walla Walla Movie Crush celebrates the most intoxicating blend of American short cinema over the course of three days in July 2025. Once again\, the festival will showcase narratives\, documentaries\, animation\, music videos and experimental films grouped in hour-long\, thematic blocks. \nThe WWMC will showcase over 100 new shorts from Oscar®-winners\, household names\, rising stars and wunderkinds. \nMovies will screen in hour-long blocks… \n6 p.m. – 9 p.m. on Friday\, July 11 \n11 a.m. – 5 p.m. and 7 p.m. – 10 p.m. on Saturday\, July 12 \n12 p.m. – 5 p.m. on Sunday\, July 13\nhttps://phtww.org/wp-content/uploads/2025/05/wwmc_9_—_trailer-240p.mp4\nBy early July 2025\, the full Crush line-up will be revealed at themoviecrush.com. Sign up on our website for Crushworthy\, the official (mostly monthly) e-newsletter of The Walla Walla Movie Crush. \nThe Walla Walla Movie Crush receives support from The City of Walla Walla and other generous sponsors. Proceeds from the Walla Walla Movie Crush benefit The Red Badge Project. \nThis event is a rental. Learn more about renting the theatre for your own event!
URL:https://phtww.org/show/walla-walla-movie-crush-9/
LOCATION:Gesa Power House Theatre\, 111 North 6th Avenue\, Walla Walla\, WA\, 99362\, United States
CATEGORIES:2025 Lineup
ATTACH;FMTTYPE=image/png:https://phtww.org/wp-content/uploads/2025/04/WallaFinal-png.webp
END:VEVENT
BEGIN:VEVENT
DTSTART;TZID=America/Los_Angeles:20250718T190000
DTEND;TZID=America/Los_Angeles:20250718T210000
DTSTAMP:20260424T191418
CREATED:20250501T124549Z
LAST-MODIFIED:20250719T022647Z
UID:12871-1752865200-1752872400@phtww.org
SUMMARY:Kira Soltanovich
DESCRIPTION:On July 18\, at 7 PM\, Gesa Power House Theatre welcomes to the stage Kira Soltanovich. This program is supported\, in part\, by a grant from the Washington State Arts Commission.  \nKira Soltanovich is a comedian\, actress\, and writer best known for her correspondent work on The Tonight Show with Jay Leno for almost 9 years. She was the Phony Photo Booth\, which turned into the show’s longest-running comedy piece. (that didn’t have Jay in it). Kira teams up with Jay Leno again in the You Bet Your Life game show reboot in syndication on FOX now. \nKira has a half-hour stand-up special on Showtime called Here Comes Trouble and a one-hour stand-up special on Amazon called You Did This To Me. She’s the sidekick to host Donald Faison on the Netflix game show\, Winsanity and she’s been a recurring comedian on several FOX television shows: Punchline and The Drama. Kira was a series regular on two seasons of TruTV’s How To Be A Grownup\, and also shot two seasons of the Facebook series The Turndown which was shot exclusively in a bed. \nMany of her fans remember her from the hidden camera show\, Girls Behaving Badly\, where she was a series regular for 4 seasons. Kira has been featured on Comedy Central\, NBC’s Last Comic Standing\, Nickelodeon\, several Disney shows\, and one of her most unique claim to fame moments came when Hell’s Kitchen made her the “prize” for the winning team of chefs who got a night out at The Laugh Factory on the Sunset Strip. \nKira was born in the former Soviet Union\, was traded for grains from the United States and immigrated in American when she was 2 years old. Kira honed her comedy chops all throughout grade school and up until high school graduation. It’s amazing how telling an angry principal a few jokes can get you out of serious trouble.\n \nReserved seating tickets starting at $25 ($20 for students) will be available online or at the box office (509-529-6500) beginning May 15th. Want early access to tickets? Consider joining our +Power Club!
URL:https://phtww.org/show/kira-soltanovich-2/
LOCATION:Gesa Power House Theatre\, 111 North 6th Avenue\, Walla Walla\, WA\, 99362\, United States
CATEGORIES:2025 Lineup,public
ATTACH;FMTTYPE=image/jpeg:https://phtww.org/wp-content/uploads/2024/07/TCP08889_.jpg
END:VEVENT
BEGIN:VEVENT
DTSTART;TZID=America/Los_Angeles:20250719T190000
DTEND;TZID=America/Los_Angeles:20250719T210000
DTSTAMP:20260424T191418
CREATED:20250501T124552Z
LAST-MODIFIED:20250719T015021Z
UID:12874-1752951600-1752958800@phtww.org
SUMMARY:Susan Rice
DESCRIPTION:On July 19\, at 7 PM\, Gesa Power House Theatre welcomes to the stage comedian Susan Rice. This program is supported\, in part\, by a grant from the Washington State Arts Commission. \nSusan Rice was recently featured in Vulture Magazine for her widely popular appearance on Don’t Tell Comedy\, which garnered over 1 millions views. Susan has made appearances on ABC\, NBC\, Hbo\, Showtime\, and comedy central. Moving to Los Angeles in 1986 brought television credits and allowed her to open for comics like Jerry Seinfeld\, Rich Shydner\, Paula Poundstone\, and recently Maria Bamford & Arsenio Hall. In the last 10 years\, Rice has found her niche in fundraising and organizing charity events such as the first-ever St. Johns Comedy Festival held in her own neighborhood of N. Portland. \n \nReserved seating tickets ($25) will be available online or at the box office (509-529-6500) beginning May 15th. Want early access to tickets? Consider joining our +Power Club!
URL:https://phtww.org/show/susan-rice/
LOCATION:Gesa Power House Theatre\, 111 North 6th Avenue\, Walla Walla\, WA\, 99362\, United States
CATEGORIES:2025 Lineup,public
ATTACH;FMTTYPE=image/jpeg:https://phtww.org/wp-content/uploads/2025/04/Susan-Rice-Full-1200x900-1.webp
END:VEVENT
END:VCALENDAR