BEGIN:VCALENDAR
VERSION:2.0
PRODID:-//Gesa Power House Theatre - ECPv6.15.20//NONSGML v1.0//EN
CALSCALE:GREGORIAN
METHOD:PUBLISH
X-WR-CALNAME:Gesa Power House Theatre
X-ORIGINAL-URL:https://phtww.org
X-WR-CALDESC:Events for Gesa Power House Theatre
REFRESH-INTERVAL;VALUE=DURATION:PT1H
X-Robots-Tag:noindex
X-PUBLISHED-TTL:PT1H
BEGIN:VTIMEZONE
TZID:America/Los_Angeles
BEGIN:DAYLIGHT
TZOFFSETFROM:-0800
TZOFFSETTO:-0700
TZNAME:PDT
DTSTART:20240310T100000
END:DAYLIGHT
BEGIN:STANDARD
TZOFFSETFROM:-0700
TZOFFSETTO:-0800
TZNAME:PST
DTSTART:20241103T090000
END:STANDARD
BEGIN:DAYLIGHT
TZOFFSETFROM:-0800
TZOFFSETTO:-0700
TZNAME:PDT
DTSTART:20250309T100000
END:DAYLIGHT
BEGIN:STANDARD
TZOFFSETFROM:-0700
TZOFFSETTO:-0800
TZNAME:PST
DTSTART:20251102T090000
END:STANDARD
BEGIN:DAYLIGHT
TZOFFSETFROM:-0800
TZOFFSETTO:-0700
TZNAME:PDT
DTSTART:20260308T100000
END:DAYLIGHT
BEGIN:STANDARD
TZOFFSETFROM:-0700
TZOFFSETTO:-0800
TZNAME:PST
DTSTART:20261101T090000
END:STANDARD
END:VTIMEZONE
BEGIN:VEVENT
DTSTART;TZID=America/Los_Angeles:20250606T190000
DTEND;TZID=America/Los_Angeles:20250606T210000
DTSTAMP:20260424T194619
CREATED:20250201T160046Z
LAST-MODIFIED:20260326T223647Z
UID:12568-1749236400-1749243600@phtww.org
SUMMARY:Caravan of GLAM
DESCRIPTION:Gesa Power House Theatre welcomes back to the stage Caravan of GLAM on June 6 at 7PM. \nThe Caravan of GLAM is a flamboyant cabaret act featuring drag\, burlesque\, acrobatics\, and comedy. Expect the unexpected as each show is customized to the venue and no two shows are ever the same. \nThe Caravan of GLAM formed in 2013\, appeared on America’s Got Talent in 2015\, were featured in the documentary film Burlesque: Heart of the Glitter Tribe\, and were scouted by ABC for a new dance-based reality competition. The Caravan of GLAM tours the United States and Canada\, and individual members also perform and tour as solo artists. Recommended age to attend this show is 16+. \nReserved seating tickets start at $30($20 for students) and are available online or by calling the box office at 509-529-6500.
URL:https://phtww.org/show/caravan-of-glam-3/
LOCATION:Gesa Power House Theatre\, 111 North 6th Avenue\, Walla Walla\, WA\, 99362\, United States
CATEGORIES:2025 Lineup,public
ATTACH;FMTTYPE=image/png:https://phtww.org/wp-content/uploads/2024/02/CARAVAN-OF-GLAM-2024.png
END:VEVENT
BEGIN:VEVENT
DTSTART;TZID=America/Los_Angeles:20250608T140000
DTEND;TZID=America/Los_Angeles:20250608T160000
DTSTAMP:20260424T194619
CREATED:20250201T160001Z
LAST-MODIFIED:20250508T194946Z
UID:12572-1749391200-1749398400@phtww.org
SUMMARY:VENTASTIC!
DESCRIPTION:Gesa Power House Theatre proudly presents Ventastic on Sunday\, June 8\, 2025\, at 2 PM. \nMichael Harrison is an award winning ventriloquist and puppeteer based in Victoria\, BC Canada. He tours worldwide with his incredible show Ventastic. Michael turns ventriloquism upside-down with his original puppets and creative routines that have amazed audiences of all ages for over 30 years. \nMichael channels the talents of his legendary great grandfather\, Frank Merryfield (vaudeville ventriloquist) into a one-man\, laugh out loud romp into the past with his new up to date twist on this long lost art form. Michael is a talented ventriloquist\, puppeteer and comedian with a lifetime of experience in this unique field of entertainment. He has worked with Kelly Clarkson\, The Muppets and Boyz to Men. \nMichael took his talents to a new level when he appeared on America’s Got Talent\, receiving glowing reviews from the celebrity judges. He has written and performed on the award winning television show “Kids in the Firehall” (Bronze Apple Award Winner) and is the star of the reality television pilot “The Dummy Test”. \nReserved tickets will be available for $12 ($8 for children under 12) on February 15th\, either online or via the Box Office at 509-529-6500. Want to receive early notice and access to ticket sales? Join the +Power Club (highest priority) or sign up for our email list (at the bottom of this page)!
URL:https://phtww.org/show/ventastic/
LOCATION:Gesa Power House Theatre\, 111 North 6th Avenue\, Walla Walla\, WA\, 99362\, United States
CATEGORIES:2025 Lineup,Little Watts,public
ATTACH;FMTTYPE=image/png:https://phtww.org/wp-content/uploads/2025/01/Ventastic_edited-3-copy-e1738178026565.png
END:VEVENT
BEGIN:VEVENT
DTSTART;TZID=America/Los_Angeles:20250611T190000
DTEND;TZID=America/Los_Angeles:20250611T210000
DTSTAMP:20260424T194619
CREATED:20241101T150047Z
LAST-MODIFIED:20250610T152103Z
UID:12231-1749668400-1749675600@phtww.org
SUMMARY:Sequential: The Storytelling Power of Comic Books
DESCRIPTION:Join us on Wednesday\, June 11\, 2025 as Gesa Power House Theatre proudly presents Sequential: The Storytelling Power of Comic Books. This event is sponsored by Humanities Washington. \nJosh Tuininga (he/him) is an author\, artist\, and designer. After studying fine art at the School of the Art Institute of Chicago\, he founded an art and design agency\, where he continues to work as creative director. His work has been published in the magazines Communication Arts and HOW Design. Tuininga is the author of the children’s books Why Blue? and Dream On. We Are Not Strangers is his first graphic novel\, which was a 2024 Washington State book award finalist!\n \nDespite the graphic novel’s skyrocketing popularity\, many still view the art form as unsophisticated or less credible than traditional forms of literature. In this talk\, comic artist Josh Tuininga shows how comic books and graphic novels are not only powerful art forms\, but have unique abilities to challenge young readers in surprising ways and can help prepare students for a rapidly changing future.   \nTuininga traces the origins of sequential art—exploring the evolution of the art form and its impact on readers and culture throughout history. He also shares an in-depth look at the sequential art process as he presents his graphic novel\, We Are Not Strangers—a true family story which follows a Jewish immigrant’s efforts to help his Japanese-American neighbors while they are incarcerated during World War II.  \nGesa Power House Theatre is committed to ensuring that the arts are for everyone. Join us for this free community event\, bringing impactful stories to the Walla Walla Valley. Donations are welcome!
URL:https://phtww.org/show/sequential-the-storytelling-power-of-comic-books/
LOCATION:Gesa Power House Theatre\, 111 North 6th Avenue\, Walla Walla\, WA\, 99362\, United States
CATEGORIES:2025 Lineup,Little Watts,public
ATTACH;FMTTYPE=image/jpeg:https://phtww.org/wp-content/uploads/2024/10/HW_SpeakersBureau_Sequential_1080x1080.jpg
END:VEVENT
BEGIN:VEVENT
DTSTART;TZID=America/Los_Angeles:20250625T190000
DTEND;TZID=America/Los_Angeles:20250625T210000
DTSTAMP:20260424T194619
CREATED:20250324T185553Z
LAST-MODIFIED:20250324T222943Z
UID:12765-1750878000-1750885200@phtww.org
SUMMARY:Your Fat Friend
DESCRIPTION:Gesa Power House Theatre proudly presents Your Fat Friend on Wednesday\, June 25\, 2025\, at 7PM.\n \nThe rise of Aubrey Gordon\, from anonymous blogger to best selling author. Her aim? A paradigm shift in the way that we view fatness. A film about fat\, family\, the complexities of change and the deep\, messy feelings we hold about our bodies. \nMade over 6 years\, director Jeanie Finlay charts the rise of writer and activist Aubrey Gordon from anonymous blogger to NYTimes best selling author and beloved podcaster. Her aim? A paradigm shift in the way we see fat people and the fat on our own bodies.   \nHer life changing work has brought her an ardent\, international audience but also threats to her life. One of her biggest challenges is getting her parents to listen.  \n“A beautiful film about messy feelings” \n– Letterboxed Crew\n“Everyone should watch it” \n– The Film Experience\n“Another joyously insightful\, subversive and ultimately uplifting documentary from the great Jeanie Finlay” \n– Mark Kermode
URL:https://phtww.org/show/your-fat-friend/
LOCATION:Gesa Power House Theatre\, 111 North 6th Avenue\, Walla Walla\, WA\, 99362\, United States
CATEGORIES:2025 Lineup,Power House Movies
ATTACH;FMTTYPE=image/jpeg:https://phtww.org/wp-content/uploads/2025/03/A5_portrait01-e1742855365247.jpg
END:VEVENT
END:VCALENDAR