BEGIN:VCALENDAR
VERSION:2.0
PRODID:-//Gesa Power House Theatre - ECPv6.15.20//NONSGML v1.0//EN
CALSCALE:GREGORIAN
METHOD:PUBLISH
X-WR-CALNAME:Gesa Power House Theatre
X-ORIGINAL-URL:https://phtww.org
X-WR-CALDESC:Events for Gesa Power House Theatre
REFRESH-INTERVAL;VALUE=DURATION:PT1H
X-Robots-Tag:noindex
X-PUBLISHED-TTL:PT1H
BEGIN:VTIMEZONE
TZID:America/Los_Angeles
BEGIN:DAYLIGHT
TZOFFSETFROM:-0800
TZOFFSETTO:-0700
TZNAME:PDT
DTSTART:20240310T100000
END:DAYLIGHT
BEGIN:STANDARD
TZOFFSETFROM:-0700
TZOFFSETTO:-0800
TZNAME:PST
DTSTART:20241103T090000
END:STANDARD
BEGIN:DAYLIGHT
TZOFFSETFROM:-0800
TZOFFSETTO:-0700
TZNAME:PDT
DTSTART:20250309T100000
END:DAYLIGHT
BEGIN:STANDARD
TZOFFSETFROM:-0700
TZOFFSETTO:-0800
TZNAME:PST
DTSTART:20251102T090000
END:STANDARD
BEGIN:DAYLIGHT
TZOFFSETFROM:-0800
TZOFFSETTO:-0700
TZNAME:PDT
DTSTART:20260308T100000
END:DAYLIGHT
BEGIN:STANDARD
TZOFFSETFROM:-0700
TZOFFSETTO:-0800
TZNAME:PST
DTSTART:20261101T090000
END:STANDARD
END:VTIMEZONE
BEGIN:VEVENT
DTSTART;TZID=America/Los_Angeles:20250402T190000
DTEND;TZID=America/Los_Angeles:20250402T210000
DTSTAMP:20260424T171609
CREATED:20250201T160018Z
LAST-MODIFIED:20250305T164812Z
UID:12516-1743620400-1743627600@phtww.org
SUMMARY:Seattle Jewish Film Festival Shorts Program
DESCRIPTION:On Wednesday\, April 2 at 7 p.m.\, Gesa Power House Theatre proudly partners once again with the Seattle Jewish Film Festival for 2025’s short film showcase\, HASHIVENU: RETURN US. This collection of short films was curated by our Director of Film Programming\, Warren Etheredge. \nWhen people speak of grit\, they usually mean the power of perseverance. From a secular mindset\, grit is a manifestation of stick-to-it-tiveness. For this block of short films\, we explore a more divine form of resilience\, hashivenu—a reaffirming of faith in challenging times of grief or crisis. \nFor SJFF’s 30th Pearl Anniversary\, this strand of seven cinematic gems exhibits the transformation through adversity to resilience (Rated PG-13).\n \nA program of the Stroum Jewish Community Center\, the Seattle Jewish Film Festival runs March 22- April 6. For more information about the annual Seattle Jewish Film Festival\, visit SEATTLEJFF.ORG.
URL:https://phtww.org/show/seattle-jewish-film-festival-shorts-program/
LOCATION:Gesa Power House Theatre\, 111 North 6th Avenue\, Walla Walla\, WA\, 99362\, United States
CATEGORIES:2025 Lineup,Power House Movies,public
ATTACH;FMTTYPE=image/png:https://phtww.org/wp-content/uploads/2025/02/2025-sjff-shorts-program-SLIDE-1920-copy.png
END:VEVENT
BEGIN:VEVENT
DTSTART;TZID=America/Los_Angeles:20250403T190000
DTEND;TZID=America/Los_Angeles:20250403T210000
DTSTAMP:20260424T171609
CREATED:20250303T135335Z
LAST-MODIFIED:20250306T132120Z
UID:12675-1743706800-1743714000@phtww.org
SUMMARY:Musical Monday: IMPROV
DESCRIPTION:Musical Monday\, the internet’s favorite improv comedy band with over 2 million fans and a staggering 1 billion views\, is coming to Gesa Power House Theatre!  \nOn Thursday\, April 3rd\, 2025 at 7PM\, brace yourself for an unforgettable night of storytelling\, off-the-cuff music\, and never-to-be-sung-again songs—all inspired by the crowd! It’s a one-of-a-kind show where you call the shots\, and we turn your suggestions into comedy gold. Don’t miss the improv musical event that’s taking the internet by storm!\n \nTickets available NOW starting at $25 either online or via the Box Office at 509-529-6500.
URL:https://phtww.org/show/musical-monday-improv/
LOCATION:Gesa Power House Theatre\, 111 North 6th Avenue\, Walla Walla\, WA\, 99362\, United States
CATEGORIES:2025 Lineup,public
ATTACH;FMTTYPE=image/jpeg:https://phtww.org/wp-content/uploads/2025/03/MusicalMonday.jpg
END:VEVENT
BEGIN:VEVENT
DTSTART;TZID=America/Los_Angeles:20250404T190000
DTEND;TZID=America/Los_Angeles:20250404T210000
DTSTAMP:20260424T171609
CREATED:20250201T160031Z
LAST-MODIFIED:20250130T225630Z
UID:12518-1743793200-1743800400@phtww.org
SUMMARY:Bon Débarras
DESCRIPTION:On Friday\, April 4\, 2025 at 7 PM\, Gesa Power House Theatre proudly presents Bon Débarras. \nBon Débarras unites the worlds of music\, dance and poetry through a collaboration between Montreal artists Dominic Desrochers\, Jean-François Dumas and Veronique Plasse. The group brings together a fusion of Quebecois folk music\, traditional step-dancing and global influences\, for a show that is full of fun and inventive energy. On guitar\, banjo\, violin and harmonica\, the trio opens a door to their recollections of America and their music is at the intersection of various traditions. Bon Débarras’ energy taps into the rhythms of today and ventures boldly on the multi-faceted road to tomorrow’s dreams\, in an atmosphere that transcends boundaries and ages.\nDOMINIC DESROCHERS: His passion for sound and movement comes all the way back from those family gatherings\, where singers\, dancers and accordionists helped create his artistic vision. Over time\, Dominic added another passion to music and poetry: percussive dance. Multi-instrumentalist\, choreographer and founding member of Zogma\, an urban folk group\, Dominic is always willing to share his knowledge through educational workshops and master classes. His talent has been widely recognized by various organizations and groups like le Cirque du Soleil\, La Bottine Souriante\, Loco Locass and Les 7 doigts de la main. His approach is to make percussive dance an extension of oneself. His motto: “Scratch the sky\, the earth gives you an itch\, then beat the earth and the sky warms you up… All you can beat\, bon appétit! There is jig a plenty at the banquet of your two feet”. \nJEAN-FRANÇOIS DUMAS: Talk about a one-man band! Accomplished multi-instrumentalist\, Jean-François Dumas grew up in a family of musicians and singers where his early musical talent bloomed among songs and melodies from times past. At the age of 17\, driven by a thirst for freedom\, his guitar slung over his shoulder\, he chose travelling to learn his trade. His journeys took him through the United-States\, Latin America and Europe. There he discovered other peoples’ folk traditions and colors\, and nourished his boundless passion for musical interbreeding in which his own roots lie. Several participations to Noël dans le Parc (Christmas in the Park) as a performer and music director enabled him to stage shows convening artists of all cultures to help create ties between people and generations. Somehow\, it’s there that the trio Bon Débarras was born. Equipped with a solid musical knowledge and background\, Jean-François has performed with many spirited artists among which La Bottine Souriante\, Cedric Watson\, Juan Sebastian Larobina and Edgar Bori. \nVERONIQUE PLASSE: A trained actress and a musician\, has joined the world of traditional music since a score of years\, working at enhancing Québec cultural heritage. Her commitments and involvements are driven by goals which are at the heart of whatever she undertakes: creation\, gathering\, preservation and diffusion. Endowed with a very sensitive and positive energy\, Véronique really enjoys bringing to the public her knowledge and a kind of cultural expertise she acquired through encounters and research. Spurred by her passion for Québec traditional music\, this violinist and singer has been active on the international traditional folk scene for about 20 years. Recognized by her fellow trad musicians as a high-calibre performer\, Véronique strongly believes that we must carry on the effort of creating moments and places where beauty\, sharing and human interaction weave the threads of a sociocultural fabric we can all call our own.\nThe latest addition to the Bon Débarras trad trio\, Véronique performs also in several other significant projects: Beaton-Plasse\, Les Commandos Trad\, Barbo and Hurlevent. \nReserved tickets will be available starting at $30 ($20 for students) on February 15th\, either online or via the Box Office at 509-529-6500. Want to receive early notice and access to ticket sales? Join the +Power Club (early ticket access February 8th and highest priority) or sign up for our e-mail list (at the bottom of this page)!
URL:https://phtww.org/show/bon-debarras/
LOCATION:Gesa Power House Theatre\, 111 North 6th Avenue\, Walla Walla\, WA\, 99362\, United States
CATEGORIES:2025 Lineup,public
ATTACH;FMTTYPE=image/jpeg:https://phtww.org/wp-content/uploads/2025/01/BonDebarras-Reperes-album-HR-Credit_Vitor_Munhoz-1-scaled.jpg
END:VEVENT
BEGIN:VEVENT
DTSTART;TZID=America/Los_Angeles:20250418T190000
DTEND;TZID=America/Los_Angeles:20250418T210000
DTSTAMP:20260424T171609
CREATED:20250201T160011Z
LAST-MODIFIED:20250214T203659Z
UID:12522-1745002800-1745010000@phtww.org
SUMMARY:UNIT SOUZOU
DESCRIPTION:Gesa Power House Theatre welcomes the incredible art of Unit Souzou on Friday\, April 18\, 2025 at 7:00PM. Funded in part by the New England Foundation for the Arts’ National Theater Project\, with lead funding from The Mellon Foundation and support from the Doris Duke Foundation. \n‘Souzou’ can be written in three ways meaning ‘creation’ (創造)\, ‘imagination’ (想像)\, or ‘noisy’ (騒々)\, alluding to a force by which new ideas are born and take shape in the world. Inspired by these words\, an expressive blend of taiko and Japanese folk dance\, forging new traditions for evolving communities. The core of Unit Souzou’s artistic voice is personal and authentic\, sound shaped and inspired by form and by movement. The essence of Unit Souzou is an expressive blend of taiko and Japanese folk dance\, forging new traditions for evolving communities. In addition to creating groundbreaking professional theatrical works\, Unit Souzou is deeply committed to share taiko through community performances and collaborations\, public classes for adults and youth\, and school-based education programs. \nUnit Souzou was founded in 2014 by Co-directors Michelle Fujii and Toru Watanabe\, relentless innovators at the forefront of a growing artistic movement within the taiko community. Fujii and Watanabe met at Warabi-za\, Japan’s foremost traditional folk dance troupe based in Akita\, Northern Japan. They have been guest artists and collaborators with many North American and international taiko groups. \nReserved seating tickets starting at $30 can be purchased online or by calling the box office at 509-529-6500. Ticket sales open on to the public on February 15th. \nWant to receive early notice and access to ticket sales? Join the +Power Club (highest priority) or sign up for our email list (at the bottom of this page)!
URL:https://phtww.org/show/unit-souzou/
LOCATION:Gesa Power House Theatre\, 111 North 6th Avenue\, Walla Walla\, WA\, 99362\, United States
CATEGORIES:2025 Lineup,public
ATTACH;FMTTYPE=image/jpeg:https://phtww.org/wp-content/uploads/2025/01/Unit-Souzou-3.jpg
END:VEVENT
BEGIN:VEVENT
DTSTART;TZID=America/Los_Angeles:20250423T190000
DTEND;TZID=America/Los_Angeles:20250423T210000
DTSTAMP:20260424T171609
CREATED:20250201T160018Z
LAST-MODIFIED:20250317T181811Z
UID:12529-1745434800-1745442000@phtww.org
SUMMARY:Burden of Dreams
DESCRIPTION:Burden of Dreams captures legendary director Werner Herzog’s filming of his most ambitious film Fitzcarraldo\, in which an entrepreneur (Klaus Kinski) endeavors to push a steamship over a mountain to build an opera house in the Amazon jungle\, one thousand miles away from civilization.\nFeaturing visceral interviews with Herzog\, Burden of Dreams which was held by Roger Ebert as “one of the most remarkable documentaries ever made about the making of a movie” depicts the full range of Herzog’s unflinching vision spanning four years of production\, despite all odds\, such as the lead actor (Jason Robards) who had to leave the set after 40% of the shoot was completed and ultimately was replaced by Herzog’s muse\, Klaus Kinski. Most notoriously\, the film features a jaw-dropping sequence featuring Herzog requiring hundreds of native Campa\, Machiguenga\, and Aguaruna people to pull a full-size\, 320-ton steamship over a small mountain. The result is an extraordinary document of the filmmaking process and a unique look into the single-minded mission of one of cinema’s most fearless directors.  \nBlank’s interviews with Herzog\, bring context and backstory to his personalized style of “ethnographic filmmaking\,” which values Peru’s native\, Campa\, Machiguenga\, and Aguaruna people and their Old World culture as much as it does Herzog’s perilous enterprise. Blank’s appreciation for the jungle comes through in his uninflected photography of insects\, birds\, and even the feet and faces of his Peruvian subjects – as frequently set against the classical music that Herzog used in Fitzcarraldo.\n \nReserved seating tickets ($15\, $10 for students) will be available on February 15th\, online or by calling the box office at 509-529-6500. \nWant to receive early notice and access to ticket sales? Join the +Power Club (highest priority) or sign up for our e-mail list (at the bottom of this page)!
URL:https://phtww.org/show/burden-of-dreams/
LOCATION:Gesa Power House Theatre\, 111 North 6th Avenue\, Walla Walla\, WA\, 99362\, United States
CATEGORIES:2025 Lineup,Power House Movies,public
ATTACH;FMTTYPE=image/png:https://phtww.org/wp-content/uploads/2025/01/Burden-of-Dreams-Press-Kit-6.12.24-e1738006980401.png
END:VEVENT
BEGIN:VEVENT
DTSTART;TZID=America/Los_Angeles:20250426T140000
DTEND;TZID=America/Los_Angeles:20250426T160000
DTSTAMP:20260424T171609
CREATED:20250201T160037Z
LAST-MODIFIED:20250508T195214Z
UID:12539-1745676000-1745683200@phtww.org
SUMMARY:Anthony Nunziata
DESCRIPTION:THIS EVENT IS CANCELLED. Want to see Anthony Nunziata? Check out his performance at our Power Up Fundraiser Saturday\, April 26th at 5:30PM! \nDubbed “America’s new romantic singing sensation\,” classical-crossover tenor Anthony Nunziata is the Brooklyn-born\, Nashville-based singer\, songwriter\, actor and entertainer who brings his soulful voice to classic jazz\, pop standards\, Italian arias and his timeless original music. \nAnthony recently headlined a sold-out debut at the legendary Café Carlyle in New York City. He has been invited to be a headline soloist for over two dozen symphony orchestras around the world\, including co-headlining Carnegie Hall with the New York Pops Symphony Orchestra.​He has performed over 400 concerts over the past decade headlining major performing arts centers\, theaters\, symphony concert halls\, jazz clubs and private events across the country and around the world. The Brooklyn-born\, classically trained singer is hailed by Broadwayworld as “an explosion of love and entertainment.” \nWant to receive early notice and access to ticket sales? Join the +Power Club (highest priority) or sign up for our email list (at the bottom of this page)!
URL:https://phtww.org/show/anthony-nunziata/
LOCATION:Gesa Power House Theatre\, 111 North 6th Avenue\, Walla Walla\, WA\, 99362\, United States
CATEGORIES:2025 Lineup
ATTACH;FMTTYPE=image/jpeg:https://phtww.org/wp-content/uploads/2025/02/TIAA_-Anthony-Nunziata-Photo-2-2.jpg
END:VEVENT
BEGIN:VEVENT
DTSTART;TZID=America/Los_Angeles:20250426T173000
DTEND;TZID=America/Los_Angeles:20250426T210000
DTSTAMP:20260424T171609
CREATED:20240719T203547Z
LAST-MODIFIED:20250415T220515Z
UID:11788-1745688600-1745701200@phtww.org
SUMMARY:Power Up Fundraiser 2025
DESCRIPTION:Join us for the 2025 Power Up fundraiser and concert at Gesa Power House Theatre on Saturday\, April 26\, 2025 featuring the internationally-acclaimed jazz singer\, Anthony Nunziata. Tickets to the Power Up fundraiser includes special pre-show access to the fundraising party\, complimentary food and treats\, and (2) beverages* of your choice from our bar. You may even have the chance to meet and mingle with the performer before the show! *Additional alcoholic and non-alcoholic beverages will be available for purchase.\nThe 2025 Power Up fundraiser benefits the programs and services at our nonprofit theater and directly supports our mission-driven work to generate a strong\, inclusive community through the arts!\nThis fundraising event will start at 5:30 p.m. followed by a concert in the auditorium starting at 7:00 p.m. It will also feature an online silent auction with art\, wine\, unique experiences\, and more!\n\nAuction Open NOW! Click here to register and BID! \n \nReserved seating tickets are $150 and are available online or by calling the box office at 509-529-6500\, starting January 26th for +Power Club members\, and February 1 for general public.\nSpecial thank you to our Presenting Sponsor: NELSON CONSTRUCTION CORP.\, and Beer Sponsor: BURWOOD BREWING COMPANY! \nWant to receive early notice and access to ticket sales? Join the +Power Club (highest priority) or sign up for our email list (at the bottom of this page)!
URL:https://phtww.org/show/power-up-fundraiser-2025-2/
LOCATION:Gesa Power House Theatre\, 111 North 6th Avenue\, Walla Walla\, WA\, 99362\, United States
CATEGORIES:2025 Lineup,public
ATTACH;FMTTYPE=image/png:https://phtww.org/wp-content/uploads/2024/07/2025-Power-Up-Fundraiser-8.png
END:VEVENT
BEGIN:VEVENT
DTSTART;TZID=America/Los_Angeles:20250430T190000
DTEND;TZID=America/Los_Angeles:20250430T210000
DTSTAMP:20260424T171609
CREATED:20250317T130626Z
LAST-MODIFIED:20250317T131056Z
UID:12743-1746039600-1746046800@phtww.org
SUMMARY:Art For Everybody
DESCRIPTION:On Wednesday\, April 30 at 7 p.m.\, Gesa Power House Theatre proudly presents Art For Everybody. Thomas Kinkade’s pastoral landscapes made him the most collected and despised painter of all time. After his shocking death\, his family discovers a vault of unseen paintings that reveal a complex artist whose life and work embody our divided America. \nYou’ve seen his cozy cottages\, idyllic gardens\, and welcoming village streets on everything from canvas to commemorative plates. Both celebrated and disparaged for his kitschy signature settings\, the “Painter of Light” Thomas Kinkade rocketed to popularity in the ‘90s by marketing himself to American evangelicals and pitting himself against the elite art establishment. \nYet beneath the pristine public persona were demons that would drive him to alcoholism\, scandal\, and death from an overdose in 2012. After his passing\, Kinkade’s daughters uncovered a trove of unseen\, unexpectedly dark paintings\, a discovery that launched an investigation into their father’s true personality. \nThrough the voices of skeptical critics\, adoring fans\, and Kinkade’s closest friends and family\, ART FOR EVERYBODY digs deep into Kinkade’s life and work to elucidate the real man behind the persona. Accomplished editor Miranda Yousef’s directorial debut is an insightful documentary that peels back the layers of Kinkade’s facade\, delivering a portrait of a complex man divided by the same forces that continue to pull us apart as a nation.\n \nReserved seating tickets ($15\, $10 for students) will be available on February 15th\, online or by calling the box office at 509-529-6500. \nWant to receive early notice and access to ticket sales? Join the +Power Club (highest priority) or sign up for our e-mail list (at the bottom of this page)!
URL:https://phtww.org/show/art-for-everybody/
LOCATION:Gesa Power House Theatre\, 111 North 6th Avenue\, Walla Walla\, WA\, 99362\, United States
CATEGORIES:2025 Lineup,Power House Movies,public
END:VEVENT
END:VCALENDAR